BEGIN:VCALENDAR
VERSION:2.0
PRODID:-//The Horror of Being Emily - ECPv6.15.13//NONSGML v1.0//EN
CALSCALE:GREGORIAN
METHOD:PUBLISH
X-ORIGINAL-URL:https://thehorrorofbeingemily.com/blog
X-WR-CALDESC:Events for The Horror of Being Emily
REFRESH-INTERVAL;VALUE=DURATION:PT1H
X-Robots-Tag:noindex
X-PUBLISHED-TTL:PT1H
BEGIN:VTIMEZONE
TZID:America/Los_Angeles
BEGIN:DAYLIGHT
TZOFFSETFROM:-0800
TZOFFSETTO:-0700
TZNAME:PDT
DTSTART:20240310T100000
END:DAYLIGHT
BEGIN:STANDARD
TZOFFSETFROM:-0700
TZOFFSETTO:-0800
TZNAME:PST
DTSTART:20241103T090000
END:STANDARD
BEGIN:DAYLIGHT
TZOFFSETFROM:-0800
TZOFFSETTO:-0700
TZNAME:PDT
DTSTART:20250309T100000
END:DAYLIGHT
BEGIN:STANDARD
TZOFFSETFROM:-0700
TZOFFSETTO:-0800
TZNAME:PST
DTSTART:20251102T090000
END:STANDARD
BEGIN:DAYLIGHT
TZOFFSETFROM:-0800
TZOFFSETTO:-0700
TZNAME:PDT
DTSTART:20260308T100000
END:DAYLIGHT
BEGIN:STANDARD
TZOFFSETFROM:-0700
TZOFFSETTO:-0800
TZNAME:PST
DTSTART:20261101T090000
END:STANDARD
END:VTIMEZONE
BEGIN:VEVENT
DTSTART;VALUE=DATE:20250926
DTEND;VALUE=DATE:20250929
DTSTAMP:20260423T222502
CREATED:20210204T233137Z
LAST-MODIFIED:20250312T031239Z
UID:1248-1758844800-1759103999@thehorrorofbeingemily.com
SUMMARY:LA Comic Con
DESCRIPTION:LA Comic Con is one of the most diverse and celebrated pop culture events in the US with diverse artists and vendors\, selling comics\, collectibles\, art\, toys\, apparel\, and everything in-between. You’ll also get up close and personal with some of the biggest and best names in the entertainment industry with their hand-picked selection of panels\, events\, and meet n’greet opportunities. \nA confluence of comics\, gaming\, sci-fi\, horror\, pop culture\, and that one obscure thing that you thought everyone had forgotten about.
URL:https://thehorrorofbeingemily.com/blog/event/la-comic-con/
LOCATION:Los Angeles Convention Center\, 1201 S Figueroa Street\, Los Angeles\, 90015\, United States
CATEGORIES:Convention,Fan Event,Southern California
ATTACH;FMTTYPE=image/png:https://thehorrorofbeingemily.com/blog/wp-content/uploads/2021/02/LAComicCon.png
ORGANIZER;CN="LA Comic Con":MAILTO:info@comikazeent.com
END:VEVENT
END:VCALENDAR