BEGIN:VCALENDAR
VERSION:2.0
PRODID:-//The Horror of Being Emily - ECPv6.15.13//NONSGML v1.0//EN
CALSCALE:GREGORIAN
METHOD:PUBLISH
X-ORIGINAL-URL:https://thehorrorofbeingemily.com/blog
X-WR-CALDESC:Events for The Horror of Being Emily
REFRESH-INTERVAL;VALUE=DURATION:PT1H
X-Robots-Tag:noindex
X-PUBLISHED-TTL:PT1H
BEGIN:VTIMEZONE
TZID:America/Los_Angeles
BEGIN:DAYLIGHT
TZOFFSETFROM:-0800
TZOFFSETTO:-0700
TZNAME:PDT
DTSTART:20250309T100000
END:DAYLIGHT
BEGIN:STANDARD
TZOFFSETFROM:-0700
TZOFFSETTO:-0800
TZNAME:PST
DTSTART:20251102T090000
END:STANDARD
BEGIN:DAYLIGHT
TZOFFSETFROM:-0800
TZOFFSETTO:-0700
TZNAME:PDT
DTSTART:20260308T100000
END:DAYLIGHT
BEGIN:STANDARD
TZOFFSETFROM:-0700
TZOFFSETTO:-0800
TZNAME:PST
DTSTART:20261101T090000
END:STANDARD
BEGIN:DAYLIGHT
TZOFFSETFROM:-0800
TZOFFSETTO:-0700
TZNAME:PDT
DTSTART:20270314T100000
END:DAYLIGHT
BEGIN:STANDARD
TZOFFSETFROM:-0700
TZOFFSETTO:-0800
TZNAME:PST
DTSTART:20271107T090000
END:STANDARD
END:VTIMEZONE
BEGIN:VEVENT
DTSTART;VALUE=DATE:20260424
DTEND;VALUE=DATE:20260427
DTSTAMP:20260423T113851
CREATED:20210122T222721Z
LAST-MODIFIED:20260112T011450Z
UID:1050-1776988800-1777247999@thehorrorofbeingemily.com
SUMMARY:Chiller Theater
DESCRIPTION:For over 30 years\, Chiller Theater Toy\, Model\, and Film Expo has hosted celebrities\, vendors\, and costume parties. Their celebrity guests span the horror\, sci-fi\, and classic film/television genres. Chiller Theater expos occur twice yearly.
URL:https://thehorrorofbeingemily.com/blog/event/chiller-theater/
LOCATION:Hilton Parsippany\, New Jersey\, One Hilton Court\, Parsippany\, NJ\, 07054\, United States
CATEGORIES:Convention,Fan Event
ATTACH;FMTTYPE=image/gif:https://thehorrorofbeingemily.com/blog/wp-content/uploads/2021/01/ChillerTheater_2021.gif
ORGANIZER;CN="Chiller Theater":MAILTO:webmaster@chillertheatre.com
END:VEVENT
BEGIN:VEVENT
DTSTART;VALUE=DATE:20260425
DTEND;VALUE=DATE:20260427
DTSTAMP:20260423T113851
CREATED:20240201T024904Z
LAST-MODIFIED:20260109T230309Z
UID:4068-1777075200-1777247999@thehorrorofbeingemily.com
SUMMARY:East Coast Haunters Convention
DESCRIPTION:The East Coast Haunters Convention is TransWorld’s newest Halloween trade show event. Much like its sister convention\, the Midwest Haunters Convention\, this show features a pre-con bus tour\, educational sessions\, expo floor\, party\, and more. East Coast Haunters Convention is open to the public and is dedicated to all things Halloween! Welcoming home/pro haunters\, actors\, enthusiasts\, and anyone who loves to celebrate Halloween!
URL:https://thehorrorofbeingemily.com/blog/event/east-coast-haunters-convention/
LOCATION:Greater Philadelphia Expo Center\, 100 Station Avenue\, Oaks\, PA\, 19456\, United States
CATEGORIES:Haunt Industry Event,Trade Show
ATTACH;FMTTYPE=image/png:https://thehorrorofbeingemily.com/blog/wp-content/uploads/2024/01/EastCoastHauntersConvention_2024.png
ORGANIZER;CN="TransWorld Trade Shows%2C LLC":MAILTO:webmaster@transworldtradeshows.com
END:VEVENT
BEGIN:VEVENT
DTSTART;VALUE=DATE:20260425
DTEND;VALUE=DATE:20260427
DTSTAMP:20260423T113851
CREATED:20210203T061633Z
LAST-MODIFIED:20260110T073651Z
UID:1181-1777075200-1777247999@thehorrorofbeingemily.com
SUMMARY:The Oddities & Curiosities Expo - Indianapolis
DESCRIPTION:The Oddities & Curiosities Expo is a travelling oddities event. Vendors showcase wet specimens\, taxidermy\, animal bones\, antiques\, weird jewelry\, unusual art\, and all-around bizarre items. Local artisans and entertainers can be found at each event – no two events are the same! \nTaxidermy classes are also offered at each event for an additional fee.
URL:https://thehorrorofbeingemily.com/blog/event/the-oddities-curiosities-expo-indianapolis/
LOCATION:Indiana State Fairgrounds – West Pavilion\, 1202 E. 38th St.\, Indianapolis\, IN\, 46205\, United States
CATEGORIES:Art / Craft Show,Flea Market
ATTACH;FMTTYPE=image/jpeg:https://thehorrorofbeingemily.com/blog/wp-content/uploads/2021/02/OdditiesCuriositiesExpo_2021.jpg
ORGANIZER;CN="The Oddities & Curiosities Expo":MAILTO:odditiesandcuriositiesexpo@gmail.com
END:VEVENT
END:VCALENDAR