BEGIN:VCALENDAR
VERSION:2.0
PRODID:-//The Horror of Being Emily - ECPv6.15.13//NONSGML v1.0//EN
CALSCALE:GREGORIAN
METHOD:PUBLISH
X-WR-CALNAME:The Horror of Being Emily
X-ORIGINAL-URL:https://thehorrorofbeingemily.com/blog
X-WR-CALDESC:Events for The Horror of Being Emily
REFRESH-INTERVAL;VALUE=DURATION:PT1H
X-Robots-Tag:noindex
X-PUBLISHED-TTL:PT1H
BEGIN:VTIMEZONE
TZID:America/Los_Angeles
BEGIN:DAYLIGHT
TZOFFSETFROM:-0800
TZOFFSETTO:-0700
TZNAME:PDT
DTSTART:20250309T100000
END:DAYLIGHT
BEGIN:STANDARD
TZOFFSETFROM:-0700
TZOFFSETTO:-0800
TZNAME:PST
DTSTART:20251102T090000
END:STANDARD
BEGIN:DAYLIGHT
TZOFFSETFROM:-0800
TZOFFSETTO:-0700
TZNAME:PDT
DTSTART:20260308T100000
END:DAYLIGHT
BEGIN:STANDARD
TZOFFSETFROM:-0700
TZOFFSETTO:-0800
TZNAME:PST
DTSTART:20261101T090000
END:STANDARD
BEGIN:DAYLIGHT
TZOFFSETFROM:-0800
TZOFFSETTO:-0700
TZNAME:PDT
DTSTART:20270314T100000
END:DAYLIGHT
BEGIN:STANDARD
TZOFFSETFROM:-0700
TZOFFSETTO:-0800
TZNAME:PST
DTSTART:20271107T090000
END:STANDARD
END:VTIMEZONE
BEGIN:VEVENT
DTSTART;VALUE=DATE:20260731
DTEND;VALUE=DATE:20260803
DTSTAMP:20260423T163853
CREATED:20210126T231000Z
LAST-MODIFIED:20260110T081834Z
UID:1074-1785456000-1785715199@thehorrorofbeingemily.com
SUMMARY:CreepyCon
DESCRIPTION:This three-day convention in Knoxville\, Tennessee celebrates all things horror and Halloween. The event features a lively show floor\, performances\, panels\, and more.
URL:https://thehorrorofbeingemily.com/blog/event/creepy-con/
LOCATION:Knoxville Convention Center\, 701 Henley Street\, Knoxville\, TN\, 37902\, United States
CATEGORIES:Convention,Fan Event
ATTACH;FMTTYPE=image/png:https://thehorrorofbeingemily.com/blog/wp-content/uploads/2021/01/CreepyCon_Knoxville_2021.png
ORGANIZER;CN="CreepyCon":MAILTO:creepyconknoxville@gmail.com
END:VEVENT
BEGIN:VEVENT
DTSTART;VALUE=DATE:20260731
DTEND;VALUE=DATE:20260803
DTSTAMP:20260423T163853
CREATED:20210129T213407Z
LAST-MODIFIED:20260109T230213Z
UID:1113-1785456000-1785715199@thehorrorofbeingemily.com
SUMMARY:Flashback Weekend - Chicago Horror Con
DESCRIPTION:Flashback Weekend is Chicago’s largest and longest running horror convention (held annually during August in Rosemont\, IL) and is dedicated to the preservation of the big screen theatrical horror film\nexperience. In 2007 Flashback Weekend saved and restored the historic Midway Drive-In located in Dixon\, IL. The Midway Drive-In now holds 35mm Drive-In horror film fests during April and Sept\, and first run films during the summer.
URL:https://thehorrorofbeingemily.com/blog/event/flashback-weekend-chicago-horror-con/
LOCATION:Hyatt Regency O’Hare Chicago\, 9300 W. Bryn Mawr Ave.\, Rosemont\, IL\, 60018\, United States
CATEGORIES:Convention,Fan Event
ATTACH;FMTTYPE=image/png:https://thehorrorofbeingemily.com/blog/wp-content/uploads/2021/01/FlashbackWeekend_ChicagoHorrorCon.png
ORGANIZER;CN="Flashback Weekend":MAILTO:help@flashbackweekend.com
END:VEVENT
END:VCALENDAR