BEGIN:VCALENDAR
VERSION:2.0
PRODID:-//The Horror of Being Emily - ECPv6.15.13//NONSGML v1.0//EN
CALSCALE:GREGORIAN
METHOD:PUBLISH
X-ORIGINAL-URL:https://thehorrorofbeingemily.com/blog
X-WR-CALDESC:Events for The Horror of Being Emily
REFRESH-INTERVAL;VALUE=DURATION:PT1H
X-Robots-Tag:noindex
X-PUBLISHED-TTL:PT1H
BEGIN:VTIMEZONE
TZID:America/Los_Angeles
BEGIN:DAYLIGHT
TZOFFSETFROM:-0800
TZOFFSETTO:-0700
TZNAME:PDT
DTSTART:20250309T100000
END:DAYLIGHT
BEGIN:STANDARD
TZOFFSETFROM:-0700
TZOFFSETTO:-0800
TZNAME:PST
DTSTART:20251102T090000
END:STANDARD
BEGIN:DAYLIGHT
TZOFFSETFROM:-0800
TZOFFSETTO:-0700
TZNAME:PDT
DTSTART:20260308T100000
END:DAYLIGHT
BEGIN:STANDARD
TZOFFSETFROM:-0700
TZOFFSETTO:-0800
TZNAME:PST
DTSTART:20261101T090000
END:STANDARD
BEGIN:DAYLIGHT
TZOFFSETFROM:-0800
TZOFFSETTO:-0700
TZNAME:PDT
DTSTART:20270314T100000
END:DAYLIGHT
BEGIN:STANDARD
TZOFFSETFROM:-0700
TZOFFSETTO:-0800
TZNAME:PST
DTSTART:20271107T090000
END:STANDARD
END:VTIMEZONE
BEGIN:VEVENT
DTSTART;VALUE=DATE:20260814
DTEND;VALUE=DATE:20260817
DTSTAMP:20260423T181519
CREATED:20210129T212408Z
LAST-MODIFIED:20260110T232227Z
UID:1108-1786665600-1786924799@thehorrorofbeingemily.com
SUMMARY:Crypticon Kansas City
DESCRIPTION:Crypticon Kansas City celebrates horror\, pop culture\, and oddities. 
URL:https://thehorrorofbeingemily.com/blog/event/crypticon-kansas-city/
LOCATION:Hilton Kansas City Airport\, 8801 NW 112th St\, Kansas City\, 64153\, United States
CATEGORIES:Convention,Fan Event
ATTACH;FMTTYPE=image/jpeg:https://thehorrorofbeingemily.com/blog/wp-content/uploads/2021/01/Crypticon_KansasCity_2021.jpg
END:VEVENT
BEGIN:VEVENT
DTSTART;VALUE=DATE:20260814
DTEND;VALUE=DATE:20260817
DTSTAMP:20260423T181519
CREATED:20220217T201428Z
LAST-MODIFIED:20260111T002202Z
UID:3384-1786665600-1786924799@thehorrorofbeingemily.com
SUMMARY:Monster-Mania Con 67
DESCRIPTION:Meet horror’s hottest stars at Monster-Mania Con. This horror fan convention features a wide variety of celebrities\, exhibit floor\, presentations\, and more.
URL:https://thehorrorofbeingemily.com/blog/event/monster-mania-con-64/
LOCATION:DoubleTree by Hilton Cherry Hill Philadelphia\, 2349 Marlton Pike West\, Cherry Hill\, NJ\, 08002
CATEGORIES:Convention,Fan Event
ATTACH;FMTTYPE=image/png:https://thehorrorofbeingemily.com/blog/wp-content/uploads/2022/02/MonsterMania_2022.png
ORGANIZER;CN="Monster-Mania Con":MAILTO:dave@monstermania.net
END:VEVENT
BEGIN:VEVENT
DTSTART;VALUE=DATE:20260815
DTEND;VALUE=DATE:20260817
DTSTAMP:20260423T181519
CREATED:20230319T045858Z
LAST-MODIFIED:20260110T074443Z
UID:3755-1786752000-1786924799@thehorrorofbeingemily.com
SUMMARY:The Oddities & Curiosities Expo - Philadelphia
DESCRIPTION:The Oddities & Curiosities Expo is a travelling oddities event. Vendors showcase wet specimens\, taxidermy\, animal bones\, antiques\, weird jewelry\, unusual art\, and all-around bizarre items. Local artisans and entertainers can be found at each event – no two events are the same! \nTaxidermy classes are also offered at each event for an additional $200 fee.
URL:https://thehorrorofbeingemily.com/blog/event/the-oddities-curiosities-expo-philadelphia/
LOCATION:Greater Philadelphia Expo Center\, 100 Station Avenue\, Oaks\, PA\, 19456\, United States
ATTACH;FMTTYPE=image/jpeg:https://thehorrorofbeingemily.com/blog/wp-content/uploads/2021/02/OdditiesCuriositiesExpo_2021.jpg
ORGANIZER;CN="The Oddities & Curiosities Expo":MAILTO:odditiesandcuriositiesexpo@gmail.com
END:VEVENT
END:VCALENDAR