BEGIN:VCALENDAR
VERSION:2.0
PRODID:-//The Horror of Being Emily - ECPv6.15.13//NONSGML v1.0//EN
CALSCALE:GREGORIAN
METHOD:PUBLISH
X-WR-CALNAME:The Horror of Being Emily
X-ORIGINAL-URL:https://thehorrorofbeingemily.com/blog
X-WR-CALDESC:Events for The Horror of Being Emily
REFRESH-INTERVAL;VALUE=DURATION:PT1H
X-Robots-Tag:noindex
X-PUBLISHED-TTL:PT1H
BEGIN:VTIMEZONE
TZID:America/Los_Angeles
BEGIN:DAYLIGHT
TZOFFSETFROM:-0800
TZOFFSETTO:-0700
TZNAME:PDT
DTSTART:20250309T100000
END:DAYLIGHT
BEGIN:STANDARD
TZOFFSETFROM:-0700
TZOFFSETTO:-0800
TZNAME:PST
DTSTART:20251102T090000
END:STANDARD
BEGIN:DAYLIGHT
TZOFFSETFROM:-0800
TZOFFSETTO:-0700
TZNAME:PDT
DTSTART:20260308T100000
END:DAYLIGHT
BEGIN:STANDARD
TZOFFSETFROM:-0700
TZOFFSETTO:-0800
TZNAME:PST
DTSTART:20261101T090000
END:STANDARD
BEGIN:DAYLIGHT
TZOFFSETFROM:-0800
TZOFFSETTO:-0700
TZNAME:PDT
DTSTART:20270314T100000
END:DAYLIGHT
BEGIN:STANDARD
TZOFFSETFROM:-0700
TZOFFSETTO:-0800
TZNAME:PST
DTSTART:20271107T090000
END:STANDARD
END:VTIMEZONE
BEGIN:VEVENT
DTSTART;VALUE=DATE:20260911
DTEND;VALUE=DATE:20260914
DTSTAMP:20260423T195437
CREATED:20210216T045019Z
LAST-MODIFIED:20260205T065406Z
UID:1355-1789084800-1789343999@thehorrorofbeingemily.com
SUMMARY:Creep It Real OC
DESCRIPTION:Creep It Real OC celebrates the start of the Halloween season with vendors\, haunt experiences\, music\, food\, and fun.
URL:https://thehorrorofbeingemily.com/blog/event/creep-it-real-oc/
LOCATION:Heritage Museum of Orange County\, 3101 W. Harvard St.\, Santa Ana\, CA\, 92704\, United States
CATEGORIES:Art / Craft Show,Flea Market,Southern California
ATTACH;FMTTYPE=image/jpeg:https://thehorrorofbeingemily.com/blog/wp-content/uploads/2021/02/CreepItRealOC_2021.jpg
ORGANIZER;CN="Valentine Productions":MAILTO:CreepItReal@gmail.com
END:VEVENT
BEGIN:VEVENT
DTSTART;VALUE=DATE:20260912
DTEND;VALUE=DATE:20260914
DTSTAMP:20260423T195437
CREATED:20210204T195922Z
LAST-MODIFIED:20260110T075730Z
UID:1220-1789171200-1789343999@thehorrorofbeingemily.com
SUMMARY:The Oddities & Curiosities Expo - Salt Lake City
DESCRIPTION:The Oddities & Curiosities Expo is a travelling oddities event. Vendors showcase wet specimens\, taxidermy\, animal bones\, antiques\, weird jewelry\, unusual art\, and all-around bizarre items. Local artisans and entertainers can be found at each event – no two events are the same! \nTaxidermy classes are also offered at each event for an additional $200 fee.
URL:https://thehorrorofbeingemily.com/blog/event/the-oddities-curiosities-expo-salt-lake-city/
LOCATION:Mountain America Expo Center\, 9575 S State St.\, Sandy\, UT\, 84070\, United States
CATEGORIES:Art / Craft Show,Flea Market
ATTACH;FMTTYPE=image/jpeg:https://thehorrorofbeingemily.com/blog/wp-content/uploads/2021/02/OdditiesCuriositiesExpo_2021.jpg
ORGANIZER;CN="The Oddities & Curiosities Expo":MAILTO:odditiesandcuriositiesexpo@gmail.com
END:VEVENT
BEGIN:VEVENT
DTSTART;VALUE=DATE:20260913
DTEND;VALUE=DATE:20260914
DTSTAMP:20260423T195437
CREATED:20260205T074326Z
LAST-MODIFIED:20260205T074326Z
UID:4479-1789257600-1789343999@thehorrorofbeingemily.com
SUMMARY:The Great Canadian Halloween Market
DESCRIPTION:The Great Canadian Halloween Market is annual spooky shopping event celebrating everything the Halloween season has to offer. Shop the top stores\, artists\, makers and more offering the best in Halloween décor\, jewelry & apparel\, horror collectibles & memorabilia\, artisan goods\, food and more!
URL:https://thehorrorofbeingemily.com/blog/event/the-great-canadian-halloween-market/
LOCATION:Luxe Convention Centre\, 5787 Hurontario St.\, Mississauga\, Ontario\, L4Z 2H7\, Canada
CATEGORIES:Art / Craft Show
ATTACH;FMTTYPE=image/jpeg:https://thehorrorofbeingemily.com/blog/wp-content/uploads/2026/02/GreatHalloweenMarket_2026.jpg
ORGANIZER;CN="The Great Halloween Market":MAILTO:info@greatcanadianhalloween.com
END:VEVENT
END:VCALENDAR