BEGIN:VCALENDAR
VERSION:2.0
PRODID:-//The Horror of Being Emily - ECPv6.15.13//NONSGML v1.0//EN
CALSCALE:GREGORIAN
METHOD:PUBLISH
X-ORIGINAL-URL:https://thehorrorofbeingemily.com/blog
X-WR-CALDESC:Events for The Horror of Being Emily
REFRESH-INTERVAL;VALUE=DURATION:PT1H
X-Robots-Tag:noindex
X-PUBLISHED-TTL:PT1H
BEGIN:VTIMEZONE
TZID:America/Los_Angeles
BEGIN:DAYLIGHT
TZOFFSETFROM:-0800
TZOFFSETTO:-0700
TZNAME:PDT
DTSTART:20250309T100000
END:DAYLIGHT
BEGIN:STANDARD
TZOFFSETFROM:-0700
TZOFFSETTO:-0800
TZNAME:PST
DTSTART:20251102T090000
END:STANDARD
BEGIN:DAYLIGHT
TZOFFSETFROM:-0800
TZOFFSETTO:-0700
TZNAME:PDT
DTSTART:20260308T100000
END:DAYLIGHT
BEGIN:STANDARD
TZOFFSETFROM:-0700
TZOFFSETTO:-0800
TZNAME:PST
DTSTART:20261101T090000
END:STANDARD
BEGIN:DAYLIGHT
TZOFFSETFROM:-0800
TZOFFSETTO:-0700
TZNAME:PDT
DTSTART:20270314T100000
END:DAYLIGHT
BEGIN:STANDARD
TZOFFSETFROM:-0700
TZOFFSETTO:-0800
TZNAME:PST
DTSTART:20271107T090000
END:STANDARD
END:VTIMEZONE
BEGIN:VEVENT
DTSTART;VALUE=DATE:20261002
DTEND;VALUE=DATE:20261005
DTSTAMP:20260423T212559
CREATED:20210127T223530Z
LAST-MODIFIED:20260110T232454Z
UID:1085-1790899200-1791158399@thehorrorofbeingemily.com
SUMMARY:Crypticon  Minneapolis
DESCRIPTION:Since 2006 Crypticon Minneapolis has brought the stars of horror\, sci-fi\, and fantasy together with their fans. The event promises to have something for everyone – from haunters to cosplayers\, pop culture fans to nerds. \n 
URL:https://thehorrorofbeingemily.com/blog/event/crypticon-minneapolis/
LOCATION:Crown Plaza Minneapolis West\, 3131 Campus Drive\, Plymouth\, MN\, 5541\, United States
CATEGORIES:Convention,Fan Event
ATTACH;FMTTYPE=image/png:https://thehorrorofbeingemily.com/blog/wp-content/uploads/2021/01/CrypticonMinneapolis.png
ORGANIZER;CN="Crypticon Minneapolis":MAILTO:crypticonmnvendor@gmail.com
END:VEVENT
BEGIN:VEVENT
DTSTART;VALUE=DATE:20261003
DTEND;VALUE=DATE:20261005
DTSTAMP:20260423T212559
CREATED:20220210T042458Z
LAST-MODIFIED:20260109T225200Z
UID:3359-1790985600-1791158399@thehorrorofbeingemily.com
SUMMARY:Calgary Horror Con
DESCRIPTION:Calgary Horror Con is a gathering for the community of fans who love all forms of horror – including cinema\, literature\, live performance\, and art. From the initial idea sprung a grassroots movement by a group of volunteers\, and the support of amazing local Alberta talent.  The convention consists of celebrity guests\, vendors\, panels and an international film festival.  The Calgary Horror Con Ltd. is a registered as Non-Profit.
URL:https://thehorrorofbeingemily.com/blog/event/calgary-horror-con/
LOCATION:Genesis Centre Calgary\, 7555 Falconridge Blvd NE #10\, Calgary\, Alberta\, T3J 0C9\, Canada
CATEGORIES:Convention,Fan Event
ATTACH;FMTTYPE=image/png:https://thehorrorofbeingemily.com/blog/wp-content/uploads/2022/02/calgary-horror-con-logo_2022.png
ORGANIZER;CN="Calgary Horror Con":MAILTO:dan@horror-con.ca
END:VEVENT
BEGIN:VEVENT
DTSTART;VALUE=DATE:20261003
DTEND;VALUE=DATE:20261005
DTSTAMP:20260423T212559
CREATED:20210204T220747Z
LAST-MODIFIED:20260110T073034Z
UID:1226-1790985600-1791158399@thehorrorofbeingemily.com
SUMMARY:The Oddities & Curiosities Expo - Denver
DESCRIPTION:The Oddities & Curiosities Expo is a travelling oddities event. Vendors showcase wet specimens\, taxidermy\, animal bones\, antiques\, weird jewelry\, unusual art\, and all-around bizarre items. Local artisans and entertainers can be found at each event – no two events are the same! \nTaxidermy classes are also offered at each event for an additional $200 fee.
URL:https://thehorrorofbeingemily.com/blog/event/the-oddities-curiosities-expo-denver/
LOCATION:Colorado Convention Center\, 700 14th Street\, Denver\, CO\, 80202\, United States
CATEGORIES:Art / Craft Show,Flea Market
ATTACH;FMTTYPE=image/jpeg:https://thehorrorofbeingemily.com/blog/wp-content/uploads/2021/02/OdditiesCuriositiesExpo_2021.jpg
ORGANIZER;CN="The Oddities & Curiosities Expo":MAILTO:odditiesandcuriositiesexpo@gmail.com
END:VEVENT
END:VCALENDAR