BEGIN:VCALENDAR
VERSION:2.0
PRODID:-//The Horror of Being Emily - ECPv6.15.13//NONSGML v1.0//EN
CALSCALE:GREGORIAN
METHOD:PUBLISH
X-WR-CALNAME:The Horror of Being Emily
X-ORIGINAL-URL:https://thehorrorofbeingemily.com/blog
X-WR-CALDESC:Events for The Horror of Being Emily
REFRESH-INTERVAL;VALUE=DURATION:PT1H
X-Robots-Tag:noindex
X-PUBLISHED-TTL:PT1H
BEGIN:VTIMEZONE
TZID:America/Los_Angeles
BEGIN:DAYLIGHT
TZOFFSETFROM:-0800
TZOFFSETTO:-0700
TZNAME:PDT
DTSTART:20250309T100000
END:DAYLIGHT
BEGIN:STANDARD
TZOFFSETFROM:-0700
TZOFFSETTO:-0800
TZNAME:PST
DTSTART:20251102T090000
END:STANDARD
BEGIN:DAYLIGHT
TZOFFSETFROM:-0800
TZOFFSETTO:-0700
TZNAME:PDT
DTSTART:20260308T100000
END:DAYLIGHT
BEGIN:STANDARD
TZOFFSETFROM:-0700
TZOFFSETTO:-0800
TZNAME:PST
DTSTART:20261101T090000
END:STANDARD
BEGIN:DAYLIGHT
TZOFFSETFROM:-0800
TZOFFSETTO:-0700
TZNAME:PDT
DTSTART:20270314T100000
END:DAYLIGHT
BEGIN:STANDARD
TZOFFSETFROM:-0700
TZOFFSETTO:-0800
TZNAME:PST
DTSTART:20271107T090000
END:STANDARD
END:VTIMEZONE
BEGIN:VEVENT
DTSTART;VALUE=DATE:20261006
DTEND;VALUE=DATE:20261016
DTSTAMP:20260423T212512
CREATED:20240204T022004Z
LAST-MODIFIED:20260108T205409Z
UID:4106-1791244800-1792108799@thehorrorofbeingemily.com
SUMMARY:Screamfest Horror Film Festival
DESCRIPTION:Screamfest Horror Film Festival is the largest and longest-running horror film fest in the United States. It has launched the careers of numerous filmmakers by discovering and premiering groundbreaking films such as Paranormal Activity in 2007. With high praise from some of the most respected horror publications\, it has earned the well-deserved moniker of the “Sundance of Horror.” \nScreamfest is dedicated to premiering the newest and most innovative works from American and international independent horror filmmakers. The festival has a proud history of helping filmmakers gain distribution and representation\, thus providing them with the opportunity to launch their careers in the industry. \nCan’t wait to see their films? Check out their YouTube channel\, which features past years’ horror shorts.
URL:https://thehorrorofbeingemily.com/blog/event/screamfest-horror-film-festival/
LOCATION:TCL Chinese 6 Theatres\, 6801 Hollywood Blvd\, Hollywood\, CA\, 90028\, United States
CATEGORIES:Film Festival
ATTACH;FMTTYPE=image/png:https://thehorrorofbeingemily.com/blog/wp-content/uploads/2018/02/Screamfest-logo-9-1-16-1.png
ORGANIZER;CN="Screamfest":MAILTO:info@screamfestla.com
END:VEVENT
BEGIN:VEVENT
DTSTART;VALUE=DATE:20261010
DTEND;VALUE=DATE:20261012
DTSTAMP:20260423T212512
CREATED:20210203T062408Z
LAST-MODIFIED:20260110T080120Z
UID:1184-1791590400-1791763199@thehorrorofbeingemily.com
SUMMARY:The Oddities & Curiosities Expo - Vancouver
DESCRIPTION:The Oddities & Curiosities Expo is a travelling oddities event. Vendors showcase wet specimens\, taxidermy\, animal bones\, antiques\, weird jewelry\, unusual art\, and all-around bizarre items. Local artisans and entertainers can be found at each event – no two events are the same! \nTaxidermy classes are also offered at each event for an additional $200 fee.
URL:https://thehorrorofbeingemily.com/blog/event/the-oddities-curiosities-expo-vancouver/
LOCATION:Vancouver Convention Centre\, 1055 Canada Pl\, Vancouver\, British Columbia\, V6C 0C3\, Canada
CATEGORIES:Art / Craft Show,Flea Market
ATTACH;FMTTYPE=image/jpeg:https://thehorrorofbeingemily.com/blog/wp-content/uploads/2021/02/OdditiesCuriositiesExpo_2021.jpg
ORGANIZER;CN="The Oddities & Curiosities Expo":MAILTO:odditiesandcuriositiesexpo@gmail.com
END:VEVENT
END:VCALENDAR