BEGIN:VCALENDAR
VERSION:2.0
PRODID:-//The Horror of Being Emily - ECPv6.15.13//NONSGML v1.0//EN
CALSCALE:GREGORIAN
METHOD:PUBLISH
X-WR-CALNAME:The Horror of Being Emily
X-ORIGINAL-URL:https://thehorrorofbeingemily.com/blog
X-WR-CALDESC:Events for The Horror of Being Emily
REFRESH-INTERVAL;VALUE=DURATION:PT1H
X-Robots-Tag:noindex
X-PUBLISHED-TTL:PT1H
BEGIN:VTIMEZONE
TZID:America/Los_Angeles
BEGIN:DAYLIGHT
TZOFFSETFROM:-0800
TZOFFSETTO:-0700
TZNAME:PDT
DTSTART:20250309T100000
END:DAYLIGHT
BEGIN:STANDARD
TZOFFSETFROM:-0700
TZOFFSETTO:-0800
TZNAME:PST
DTSTART:20251102T090000
END:STANDARD
BEGIN:DAYLIGHT
TZOFFSETFROM:-0800
TZOFFSETTO:-0700
TZNAME:PDT
DTSTART:20260308T100000
END:DAYLIGHT
BEGIN:STANDARD
TZOFFSETFROM:-0700
TZOFFSETTO:-0800
TZNAME:PST
DTSTART:20261101T090000
END:STANDARD
BEGIN:DAYLIGHT
TZOFFSETFROM:-0800
TZOFFSETTO:-0700
TZNAME:PDT
DTSTART:20270314T100000
END:DAYLIGHT
BEGIN:STANDARD
TZOFFSETFROM:-0700
TZOFFSETTO:-0800
TZNAME:PST
DTSTART:20271107T090000
END:STANDARD
END:VTIMEZONE
BEGIN:VEVENT
DTSTART;VALUE=DATE:20261030
DTEND;VALUE=DATE:20261102
DTSTAMP:20260423T212513
CREATED:20210211T032002Z
LAST-MODIFIED:20260110T235844Z
UID:1297-1793318400-1793577599@thehorrorofbeingemily.com
SUMMARY:Spooky Empire
DESCRIPTION:Spooky Empire bills itself as the “dark side of comic con”. The convention caters to rock ‘n roll\, horror\, Halloween\, and Tattoo enthusiasts and features a vendor floor\, celebrity guests\, film festival\, costume contests\, and more.
URL:https://thehorrorofbeingemily.com/blog/event/spooky-empire-2/
LOCATION:Hyatt Regency Orlando\, 9801 International Drive\, Orlando\, FL\, 32819\, United States
CATEGORIES:Convention,Fan Event
ATTACH;FMTTYPE=image/jpeg:https://thehorrorofbeingemily.com/blog/wp-content/uploads/2021/02/SpookyEmpire_2021.jpg
ORGANIZER;CN="Spooky Empire":MAILTO:info@spookyempire.com
END:VEVENT
BEGIN:VEVENT
DTSTART;VALUE=DATE:20261030
DTEND;VALUE=DATE:20261102
DTSTAMP:20260423T212513
CREATED:20220217T200831Z
LAST-MODIFIED:20260111T002358Z
UID:3382-1793318400-1793577599@thehorrorofbeingemily.com
SUMMARY:Monster-Mania Con 68
DESCRIPTION:Meet horror’s hottest stars at Monster-Mania Con. This horror fan convention features a wide variety of celebrities\, exhibit floor\, presentations\, and more.
URL:https://thehorrorofbeingemily.com/blog/event/monster-mania-con-63/
LOCATION:Baltimore Harbor Hilton\, 2349 Marlton Pike W401 W. Pratt St.\, Baltimore\, MD\, 08002\, United States
CATEGORIES:Convention,Fan Event
ATTACH;FMTTYPE=image/png:https://thehorrorofbeingemily.com/blog/wp-content/uploads/2022/02/MonsterMania_2022.png
ORGANIZER;CN="Monster-Mania Con":MAILTO:dave@monstermania.net
END:VEVENT
BEGIN:VEVENT
DTSTART;VALUE=DATE:20261031
DTEND;VALUE=DATE:20261101
DTSTAMP:20260423T212513
CREATED:20260110T234540Z
LAST-MODIFIED:20260110T234953Z
UID:4440-1793404800-1793491199@thehorrorofbeingemily.com
SUMMARY:Darkness Con - Denver
DESCRIPTION:A celebration of haunted houses\, Halloween\, horror\, and pop culture. Immerse yourself in a world where the eerie and the fantastic collide with over 80+ hours of programming\, activities\, make & takes\, parties\, and a lively show floor.
URL:https://thehorrorofbeingemily.com/blog/event/darkness-con-denver/
LOCATION:Delta Hotel Denver Thorton\, 10 E 120th Ave\, Northglen\, CO\, 80233\, United States
ATTACH;FMTTYPE=image/png:https://thehorrorofbeingemily.com/blog/wp-content/uploads/2026/01/DarknessCon_2026.png
ORGANIZER;CN="HHC Events":MAILTO:Email mail@cohorrorcon.com
END:VEVENT
END:VCALENDAR