BEGIN:VCALENDAR
VERSION:2.0
PRODID:-//The Horror of Being Emily - ECPv6.15.13//NONSGML v1.0//EN
CALSCALE:GREGORIAN
METHOD:PUBLISH
X-WR-CALNAME:The Horror of Being Emily
X-ORIGINAL-URL:https://thehorrorofbeingemily.com/blog
X-WR-CALDESC:Events for The Horror of Being Emily
REFRESH-INTERVAL;VALUE=DURATION:PT1H
X-Robots-Tag:noindex
X-PUBLISHED-TTL:PT1H
BEGIN:VTIMEZONE
TZID:America/Los_Angeles
BEGIN:DAYLIGHT
TZOFFSETFROM:-0800
TZOFFSETTO:-0700
TZNAME:PDT
DTSTART:20210314T100000
END:DAYLIGHT
BEGIN:STANDARD
TZOFFSETFROM:-0700
TZOFFSETTO:-0800
TZNAME:PST
DTSTART:20211107T090000
END:STANDARD
BEGIN:DAYLIGHT
TZOFFSETFROM:-0800
TZOFFSETTO:-0700
TZNAME:PDT
DTSTART:20220313T100000
END:DAYLIGHT
BEGIN:STANDARD
TZOFFSETFROM:-0700
TZOFFSETTO:-0800
TZNAME:PST
DTSTART:20221106T090000
END:STANDARD
BEGIN:DAYLIGHT
TZOFFSETFROM:-0800
TZOFFSETTO:-0700
TZNAME:PDT
DTSTART:20230312T100000
END:DAYLIGHT
BEGIN:STANDARD
TZOFFSETFROM:-0700
TZOFFSETTO:-0800
TZNAME:PST
DTSTART:20231105T090000
END:STANDARD
BEGIN:DAYLIGHT
TZOFFSETFROM:-0800
TZOFFSETTO:-0700
TZNAME:PDT
DTSTART:20240310T100000
END:DAYLIGHT
BEGIN:STANDARD
TZOFFSETFROM:-0700
TZOFFSETTO:-0800
TZNAME:PST
DTSTART:20241103T090000
END:STANDARD
BEGIN:DAYLIGHT
TZOFFSETFROM:-0800
TZOFFSETTO:-0700
TZNAME:PDT
DTSTART:20250309T100000
END:DAYLIGHT
BEGIN:STANDARD
TZOFFSETFROM:-0700
TZOFFSETTO:-0800
TZNAME:PST
DTSTART:20251102T090000
END:STANDARD
BEGIN:DAYLIGHT
TZOFFSETFROM:-0800
TZOFFSETTO:-0700
TZNAME:PDT
DTSTART:20260308T100000
END:DAYLIGHT
BEGIN:STANDARD
TZOFFSETFROM:-0700
TZOFFSETTO:-0800
TZNAME:PST
DTSTART:20261101T090000
END:STANDARD
BEGIN:DAYLIGHT
TZOFFSETFROM:-0800
TZOFFSETTO:-0700
TZNAME:PDT
DTSTART:20270314T100000
END:DAYLIGHT
BEGIN:STANDARD
TZOFFSETFROM:-0700
TZOFFSETTO:-0800
TZNAME:PST
DTSTART:20271107T090000
END:STANDARD
END:VTIMEZONE
BEGIN:VEVENT
DTSTART;VALUE=DATE:20260418
DTEND;VALUE=DATE:20260420
DTSTAMP:20260423T134448
CREATED:20260112T010222Z
LAST-MODIFIED:20260112T010222Z
UID:4458-1776470400-1776643199@thehorrorofbeingemily.com
SUMMARY:The Oddities & Curiosities Expo - Columbus
DESCRIPTION:The Oddities & Curiosities Expo is a travelling oddities event. Vendors showcase wet specimens\, taxidermy\, animal bones\, antiques\, weird jewelry\, unusual art\, and all-around bizarre items. Local artisans and entertainers can be found at each event – no two events are the same! \nTaxidermy classes are also offered at each event for an additional fee.
URL:https://thehorrorofbeingemily.com/blog/event/the-oddities-curiosities-expo-columbus/
LOCATION:Ohio Expo / State Fairgrounds\, 717 E 17th Ave.\, Columbus\, OH\, 43211\, United States
CATEGORIES:Art / Craft Show,Flea Market
ATTACH;FMTTYPE=image/jpeg:https://thehorrorofbeingemily.com/blog/wp-content/uploads/2021/02/OdditiesCuriositiesExpo_2021.jpg
ORGANIZER;CN="The Oddities & Curiosities Expo":MAILTO:odditiesandcuriositiesexpo@gmail.com
END:VEVENT
BEGIN:VEVENT
DTSTART;VALUE=DATE:20260411
DTEND;VALUE=DATE:20260412
DTSTAMP:20260423T134448
CREATED:20240206T022718Z
LAST-MODIFIED:20260111T001833Z
UID:4122-1775865600-1775951999@thehorrorofbeingemily.com
SUMMARY:The Oddities Flea Market - San Diego
DESCRIPTION:The Oddities Flea Market features artisans and vendors who specialize in medical history ephemera\, anatomical curiosities\, natural history items\, osteological specimens\, taxidermy\, home décor\, jewelry\, one of a kind art\, bizarre flair\, and more. The event does an amazing job highlighting its artists and vendors. Be sure to check out their Instagram (@OdditiesFleaMarket) for a glimpse of the event’s offerings!
URL:https://thehorrorofbeingemily.com/blog/event/the-oddities-flea-market-seattle/
LOCATION:JULEP\, 1735 Hancock St\, San Diego\, CA\, 92101\, United States
CATEGORIES:Art / Craft Show,Flea Market
ATTACH;FMTTYPE=image/jpeg:https://thehorrorofbeingemily.com/blog/wp-content/uploads/2021/02/TheOdditiesFleaMarket_2021.jpg
ORGANIZER;CN="The Oddities Flea Market":MAILTO:odditiesflea@gmail.com
END:VEVENT
BEGIN:VEVENT
DTSTART;VALUE=DATE:20260404
DTEND;VALUE=DATE:20260406
DTSTAMP:20260423T134448
CREATED:20260112T010556Z
LAST-MODIFIED:20260112T010556Z
UID:4460-1775260800-1775433599@thehorrorofbeingemily.com
SUMMARY:Oddities & Curiosities Expo - Milwaukee
DESCRIPTION:The Oddities & Curiosities Expo is a travelling oddities event. Vendors showcase wet specimens\, taxidermy\, animal bones\, antiques\, weird jewelry\, unusual art\, and all-around bizarre items. Local artisans and entertainers can be found at each event – no two events are the same! \nTaxidermy classes are also offered at each event for an additional fee.
URL:https://thehorrorofbeingemily.com/blog/event/oddities-curiosities-expo-milwaukee/
LOCATION:Baird Center\, 400 W Wisconsin Ave.\, Milwaukee\, WI\, 53203\, United States
CATEGORIES:Art / Craft Show,Flea Market
ATTACH;FMTTYPE=image/jpeg:https://thehorrorofbeingemily.com/blog/wp-content/uploads/2021/02/OdditiesCuriositiesExpo_2021.jpg
ORGANIZER;CN="The Oddities & Curiosities Expo":MAILTO:odditiesandcuriositiesexpo@gmail.com
END:VEVENT
BEGIN:VEVENT
DTSTART;VALUE=DATE:20260321
DTEND;VALUE=DATE:20260323
DTSTAMP:20260423T134448
CREATED:20220125T220712Z
LAST-MODIFIED:20260110T074316Z
UID:3232-1774051200-1774223999@thehorrorofbeingemily.com
SUMMARY:The Oddities & Curiosities Expo - Pheonix
DESCRIPTION:The Oddities & Curiosities Expo is a travelling oddities event. Vendors showcase wet specimens\, taxidermy\, animal bones\, antiques\, weird jewelry\, unusual art\, and all-around bizarre items. Local artisans and entertainers can be found at each event – no two events are the same! \nTaxidermy classes are also offered at each event for an additional fee.
URL:https://thehorrorofbeingemily.com/blog/event/the-oddities-curiosities-expo-pheonix/
LOCATION:Pheonix Convention Center\, 100 North Third Street\, Pheonix\, AZ\, 85004\, United States
CATEGORIES:Art / Craft Show,Flea Market
ATTACH;FMTTYPE=image/jpeg:https://thehorrorofbeingemily.com/blog/wp-content/uploads/2021/02/OdditiesCuriositiesExpo_2021.jpg
ORGANIZER;CN="The Oddities & Curiosities Expo":MAILTO:odditiesandcuriositiesexpo@gmail.com
END:VEVENT
BEGIN:VEVENT
DTSTART;VALUE=DATE:20260307
DTEND;VALUE=DATE:20260309
DTSTAMP:20260423T134448
CREATED:20220125T222446Z
LAST-MODIFIED:20260110T071346Z
UID:3237-1772841600-1773014399@thehorrorofbeingemily.com
SUMMARY:The Oddities & Curiosities Expo - Albuquerque
DESCRIPTION:The Oddities & Curiosities Expo is a travelling oddities event. Vendors showcase wet specimens\, taxidermy\, animal bones\, antiques\, weird jewelry\, unusual art\, and all-around bizarre items. Local artisans and entertainers can be found at each event – no two events are the same! \nTaxidermy classes are also offered at each event for an additional $200 fee.
URL:https://thehorrorofbeingemily.com/blog/event/the-oddities-curiosities-expo-albuquerque/
LOCATION:Expo New Mexico\, 300 San Pedro Dr NE\, Albuquerque\, NM\, 87108\, United States
CATEGORIES:Art / Craft Show,Flea Market
ATTACH;FMTTYPE=image/jpeg:https://thehorrorofbeingemily.com/blog/wp-content/uploads/2021/02/OdditiesCuriositiesExpo_2021.jpg
ORGANIZER;CN="The Oddities & Curiosities Expo":MAILTO:odditiesandcuriositiesexpo@gmail.com
END:VEVENT
BEGIN:VEVENT
DTSTART;VALUE=DATE:20260221
DTEND;VALUE=DATE:20260223
DTSTAMP:20260423T134448
CREATED:20220125T002742Z
LAST-MODIFIED:20260110T071048Z
UID:3229-1771632000-1771804799@thehorrorofbeingemily.com
SUMMARY:The Oddities & Curiosities Expo - Atlanta
DESCRIPTION:The Oddities & Curiosities Expo is a travelling oddities event. Vendors showcase wet specimens\, taxidermy\, animal bones\, antiques\, weird jewelry\, unusual art\, and all-around bizarre items. Local artisans and entertainers can be found at each event – no two events are the same! \nTaxidermy classes are also offered at each event for an additional $200 fee.
URL:https://thehorrorofbeingemily.com/blog/event/the-oddities-curiosities-expo-atlanta/
LOCATION:Atlanta Convention Center\, 250 Spring St NW.\, Atlanta\, GA\, 30030\, United States
CATEGORIES:Art / Craft Show,Flea Market
ATTACH;FMTTYPE=image/jpeg:https://thehorrorofbeingemily.com/blog/wp-content/uploads/2021/02/OdditiesCuriositiesExpo_2021.jpg
ORGANIZER;CN="The Oddities & Curiosities Expo":MAILTO:odditiesandcuriositiesexpo@gmail.com
END:VEVENT
BEGIN:VEVENT
DTSTART;VALUE=DATE:20260214
DTEND;VALUE=DATE:20260216
DTSTAMP:20260423T134448
CREATED:20220125T222920Z
LAST-MODIFIED:20260110T070922Z
UID:3240-1771027200-1771199999@thehorrorofbeingemily.com
SUMMARY:The Oddities & Curiosities Expo - Charlotte
DESCRIPTION:The Oddities & Curiosities Expo is a travelling oddities event. Vendors showcase wet specimens\, taxidermy\, animal bones\, antiques\, weird jewelry\, unusual art\, and all-around bizarre items. Local artisans and entertainers can be found at each event – no two events are the same! \nTaxidermy classes are also offered at each event for an additional $200 fee.
URL:https://thehorrorofbeingemily.com/blog/event/the-oddities-curiosities-expo-charlotte/
LOCATION:Charlotte Convention Center\, 501 S College St.\, Charlotte\, NC\, 28202\, United States
CATEGORIES:Art / Craft Show,Flea Market
ATTACH;FMTTYPE=image/jpeg:https://thehorrorofbeingemily.com/blog/wp-content/uploads/2021/02/OdditiesCuriositiesExpo_2021.jpg
ORGANIZER;CN="The Oddities & Curiosities Expo":MAILTO:odditiesandcuriositiesexpo@gmail.com
END:VEVENT
BEGIN:VEVENT
DTSTART;VALUE=DATE:20260207
DTEND;VALUE=DATE:20260209
DTSTAMP:20260423T134448
CREATED:20230319T045022Z
LAST-MODIFIED:20260110T074006Z
UID:3746-1770422400-1770595199@thehorrorofbeingemily.com
SUMMARY:The Oddities & Curiosities Expo - Louisville
DESCRIPTION:The Oddities & Curiosities Expo is a travelling oddities event. Vendors showcase wet specimens\, taxidermy\, animal bones\, antiques\, weird jewelry\, unusual art\, and all-around bizarre items. Local artisans and entertainers can be found at each event – no two events are the same! \nTaxidermy classes are also offered at each event for an additional $200 fee.
URL:https://thehorrorofbeingemily.com/blog/event/the-oddities-curiosities-expo-louisville/
LOCATION:Kentucky Exposition Center\, 937 Phillips Ln.\, Louisville\, CA\, 40209\, United States
CATEGORIES:Art / Craft Show,Flea Market
ATTACH;FMTTYPE=image/jpeg:https://thehorrorofbeingemily.com/blog/wp-content/uploads/2021/02/OdditiesCuriositiesExpo_2021.jpg
ORGANIZER;CN="The Oddities & Curiosities Expo":MAILTO:odditiesandcuriositiesexpo@gmail.com
END:VEVENT
BEGIN:VEVENT
DTSTART;VALUE=DATE:20260124
DTEND;VALUE=DATE:20260126
DTSTAMP:20260423T134448
CREATED:20230319T044527Z
LAST-MODIFIED:20260109T230555Z
UID:3744-1769212800-1769385599@thehorrorofbeingemily.com
SUMMARY:The Oddities & Curiosities Expo - El Paso
DESCRIPTION:The Oddities & Curiosities Expo is a travelling oddities event. Vendors showcase wet specimens\, taxidermy\, animal bones\, antiques\, weird jewelry\, unusual art\, and all-around bizarre items. Local artisans and entertainers can be found at each event – no two events are the same! \nTaxidermy classes are also offered at each event for an additional $200 fee.
URL:https://thehorrorofbeingemily.com/blog/event/the-oddities-curiosities-expo-el-paso/
LOCATION:El Paso Convention Center\, One Civic Center Plaza\, El Paso\, TX\, 79901\, United States
CATEGORIES:Art / Craft Show,Flea Market
ATTACH;FMTTYPE=image/jpeg:https://thehorrorofbeingemily.com/blog/wp-content/uploads/2021/02/OdditiesCuriositiesExpo_2021.jpg
ORGANIZER;CN="The Oddities & Curiosities Expo":MAILTO:odditiesandcuriositiesexpo@gmail.com
END:VEVENT
BEGIN:VEVENT
DTSTART;VALUE=DATE:20260117
DTEND;VALUE=DATE:20260118
DTSTAMP:20260423T134448
CREATED:20260120T015619Z
LAST-MODIFIED:20260120T015619Z
UID:4472-1768608000-1768694399@thehorrorofbeingemily.com
SUMMARY:The Nightmare Expo
DESCRIPTION:The Nightmare Expo features 100+ vendors specializing in the occult\, the obscure\, and the otherworldly. Witness performances\, visit The Oracle Alley for psychic revelations\, learn taxidermy\, meet paranormal investigators\, collect horror film memorabilia\, and more. This is a wicked and weird showcase of everything beautifully bizarre by some of the nation’s best creators and collectors.
URL:https://thehorrorofbeingemily.com/blog/event/the-nightmare-expo/
LOCATION:Proctors Theatre\, 432 State Street\, Schenectady\, NY\, 12305\, United States
CATEGORIES:Art / Craft Show,Flea Market
ATTACH;FMTTYPE=image/avif:https://thehorrorofbeingemily.com/blog/wp-content/uploads/2026/01/TheNightmareExpo_2026.avif
ORGANIZER;CN="The Nightmare Market Inc.":MAILTO:nightmareonjayst@gmail.com
END:VEVENT
BEGIN:VEVENT
DTSTART;VALUE=DATE:20260110
DTEND;VALUE=DATE:20260112
DTSTAMP:20260423T134448
CREATED:20260110T065825Z
LAST-MODIFIED:20260110T065825Z
UID:4425-1768003200-1768175999@thehorrorofbeingemily.com
SUMMARY:The Oddities & Curiosities Expo - Del Mar
DESCRIPTION:The Oddities & Curiosities Expo is a travelling oddities event. Vendors showcase wet specimens\, taxidermy\, animal bones\, antiques\, weird jewelry\, unusual art\, and all-around bizarre items. Local artisans and entertainers can be found at each event – no two events are the same! \nTaxidermy classes are also offered at each event for an additional fee.
URL:https://thehorrorofbeingemily.com/blog/event/the-oddities-curiosities-expo-del-mar/
LOCATION:Del Mar Fairgrounds\, 2260 Jimmy Durante Blvd\, Del Mar\, CA\, 92014\, United States
CATEGORIES:Art / Craft Show,Flea Market
ATTACH;FMTTYPE=image/jpeg:https://thehorrorofbeingemily.com/blog/wp-content/uploads/2021/02/OdditiesCuriositiesExpo_2021.jpg
ORGANIZER;CN="The Oddities & Curiosities Expo":MAILTO:odditiesandcuriositiesexpo@gmail.com
END:VEVENT
BEGIN:VEVENT
DTSTART;VALUE=DATE:20260103
DTEND;VALUE=DATE:20260105
DTSTAMP:20260423T134448
CREATED:20240202T021023Z
LAST-MODIFIED:20260109T225836Z
UID:4082-1767398400-1767571199@thehorrorofbeingemily.com
SUMMARY:The Oddities & Curiosities Expo - Los Angeles
DESCRIPTION:The Oddities & Curiosities Expo is a travelling oddities event. Vendors showcase wet specimens\, taxidermy\, animal bones\, antiques\, weird jewelry\, unusual art\, and all-around bizarre items. Local artisans and entertainers can be found at each event – no two events are the same! \nTaxidermy classes are also offered at each event for an additional $200 fee.
URL:https://thehorrorofbeingemily.com/blog/event/the-oddities-curiosities-expo-los-angeles/
LOCATION:Los Angeles Convention Center\, 1201 S Figueroa Street\, Los Angeles\, 90015\, United States
CATEGORIES:Art / Craft Show,Flea Market
ATTACH;FMTTYPE=image/jpeg:https://thehorrorofbeingemily.com/blog/wp-content/uploads/2021/02/OdditiesCuriositiesExpo_2021.jpg
ORGANIZER;CN="The Oddities & Curiosities Expo":MAILTO:odditiesandcuriositiesexpo@gmail.com
END:VEVENT
BEGIN:VEVENT
DTSTART;VALUE=DATE:20251115
DTEND;VALUE=DATE:20251117
DTSTAMP:20260423T134448
CREATED:20220124T233125Z
LAST-MODIFIED:20250313T010708Z
UID:1208-1763164800-1763337599@thehorrorofbeingemily.com
SUMMARY:The Oddities & Curiosities Expo - Kansas City
DESCRIPTION:The Oddities & Curiosities Expo is a travelling oddities event. Vendors showcase wet specimens\, taxidermy\, animal bones\, antiques\, weird jewelry\, unusual art\, and all-around bizarre items. Local artisans and entertainers can be found at each event – no two events are the same! \nTaxidermy classes are also offered at each event for an additional $200 fee.
URL:https://thehorrorofbeingemily.com/blog/event/the-oddities-curiosities-expo-kansas-city/
LOCATION:Kansas City Convention Center\, 301 W 13th St.\, Kansas City\, MO\, 64105\, United States
CATEGORIES:Art / Craft Show,Flea Market
ATTACH;FMTTYPE=image/jpeg:https://thehorrorofbeingemily.com/blog/wp-content/uploads/2021/02/OdditiesCuriositiesExpo_2021.jpg
ORGANIZER;CN="The Oddities & Curiosities Expo":MAILTO:odditiesandcuriositiesexpo@gmail.com
END:VEVENT
BEGIN:VEVENT
DTSTART;VALUE=DATE:20250927
DTEND;VALUE=DATE:20250929
DTSTAMP:20260423T134448
CREATED:20210204T222213Z
LAST-MODIFIED:20250314T023929Z
UID:1238-1758931200-1759103999@thehorrorofbeingemily.com
SUMMARY:The Oddities & Curiosities Expo - Jacksonville
DESCRIPTION:The Oddities & Curiosities Expo is a travelling oddities event. Vendors showcase wet specimens\, taxidermy\, animal bones\, antiques\, weird jewelry\, unusual art\, and all-around bizarre items. Local artisans and entertainers can be found at each event – no two events are the same! \nTaxidermy classes are also offered at each event for an additional $200 fee.
URL:https://thehorrorofbeingemily.com/blog/event/the-oddities-curiosities-expo-jacksonville/
LOCATION:Prime S. Osborn III Convention Center\, 100\, Jacksonville\, 32204\, United States
CATEGORIES:Art / Craft Show,Flea Market
ATTACH;FMTTYPE=image/jpeg:https://thehorrorofbeingemily.com/blog/wp-content/uploads/2021/02/OdditiesCuriositiesExpo_2021.jpg
ORGANIZER;CN="The Oddities & Curiosities Expo":MAILTO:odditiesandcuriositiesexpo@gmail.com
END:VEVENT
BEGIN:VEVENT
DTSTART;VALUE=DATE:20250315
DTEND;VALUE=DATE:20250317
DTSTAMP:20260423T134448
CREATED:20230319T045315Z
LAST-MODIFIED:20250313T010414Z
UID:3749-1741996800-1742169599@thehorrorofbeingemily.com
SUMMARY:The Oddities & Curiosities Expo - Houston
DESCRIPTION:The Oddities & Curiosities Expo is a travelling oddities event. Vendors showcase wet specimens\, taxidermy\, animal bones\, antiques\, weird jewelry\, unusual art\, and all-around bizarre items. Local artisans and entertainers can be found at each event – no two events are the same! \nTaxidermy classes are also offered at each event for an additional $200 fee.
URL:https://thehorrorofbeingemily.com/blog/event/the-oddities-curiosities-expo-houston/
LOCATION:George R. Brown Convention Center\, 1001 Avenida de las Americas\, Houston\, TX\, 77010\, United States
CATEGORIES:Art / Craft Show,Flea Market
ATTACH;FMTTYPE=image/jpeg:https://thehorrorofbeingemily.com/blog/wp-content/uploads/2021/02/OdditiesCuriositiesExpo_2021.jpg
ORGANIZER;CN="The Oddities & Curiosities Expo":MAILTO:odditiesandcuriositiesexpo@gmail.com
END:VEVENT
BEGIN:VEVENT
DTSTART;VALUE=DATE:20250110
DTEND;VALUE=DATE:20250112
DTSTAMP:20260423T134448
CREATED:20220125T002043Z
LAST-MODIFIED:20260109T225948Z
UID:3227-1736467200-1736639999@thehorrorofbeingemily.com
SUMMARY:The Oddities & Curiosities Expo - San Diego
DESCRIPTION:The Oddities & Curiosities Expo is a travelling oddities event. Vendors showcase wet specimens\, taxidermy\, animal bones\, antiques\, weird jewelry\, unusual art\, and all-around bizarre items. Local artisans and entertainers can be found at each event – no two events are the same! \nTaxidermy classes are also offered at each event for an additional $200 fee.
URL:https://thehorrorofbeingemily.com/blog/event/the-oddities-curiosities-expo-san-diego/
LOCATION:San Diego Convention Center\, 111 W Harbor Drive\, San Diego\, CA\, 92101\, United States
CATEGORIES:Art / Craft Show,Flea Market
ATTACH;FMTTYPE=image/jpeg:https://thehorrorofbeingemily.com/blog/wp-content/uploads/2021/02/OdditiesCuriositiesExpo_2021.jpg
ORGANIZER;CN="The Oddities & Curiosities Expo":MAILTO:odditiesandcuriositiesexpo@gmail.com
END:VEVENT
BEGIN:VEVENT
DTSTART;VALUE=DATE:20240406
DTEND;VALUE=DATE:20240408
DTSTAMP:20260423T134448
CREATED:20210203T013711Z
LAST-MODIFIED:20240206T022103Z
UID:1168-1712361600-1712534399@thehorrorofbeingemily.com
SUMMARY:The Oddities Flea Market - Chicago
DESCRIPTION:The Oddities Flea Market features artisans and vendors who specialize in medical history ephemera\, anatomical curiosities\, natural history items\, osteological specimens\, taxidermy\, home décor\, jewelry\, one of a kind art\, bizarre flair\, and more. The event does an amazing job highlighting its artists and vendors. Be sure to check out their Instagram (@OdditiesFleaMarket) for a glimpse of the event’s offerings!
URL:https://thehorrorofbeingemily.com/blog/event/the-oddities-flea-market/
LOCATION:Morgan Manufacturing\, 401 North Morgan Street\, Chicago\, IL\, 60642\, United States
CATEGORIES:Art / Craft Show,Flea Market
ATTACH;FMTTYPE=image/jpeg:https://thehorrorofbeingemily.com/blog/wp-content/uploads/2021/02/TheOdditiesFleaMarket_2021.jpg
ORGANIZER;CN="The Oddities Flea Market":MAILTO:odditiesflea@gmail.com
END:VEVENT
BEGIN:VEVENT
DTSTART;TZID=America/Los_Angeles:20230923T090000
DTEND;TZID=America/Los_Angeles:20230923T150000
DTSTAMP:20260423T134448
CREATED:20210120T004116Z
LAST-MODIFIED:20230117T052131Z
UID:1027-1695459600-1695481200@thehorrorofbeingemily.com
SUMMARY:All Hallows Art Fest
DESCRIPTION:The All Hallow’s Art Fest features Halloween artists from around the country. Collectors can find one-of-a-kind hand-made Halloween folk art in a variety of mediums: papier-mâché\, leather\, felt\, spun cotton\, and more.
URL:https://thehorrorofbeingemily.com/blog/event/all-hallows-art-fest/
LOCATION:Hermann Sons Hall\, 860 Western Avenue\, Petaluma\, CA\, 94952\, United States
CATEGORIES:Art / Craft Show
ORGANIZER;CN="Halloween Folk Art Society":MAILTO:allhallowsartfest@gmail.com
END:VEVENT
BEGIN:VEVENT
DTSTART;VALUE=DATE:20220917
DTEND;VALUE=DATE:20220918
DTSTAMP:20260423T134448
CREATED:20220304T030210Z
LAST-MODIFIED:20220304T032358Z
UID:3418-1663372800-1663459199@thehorrorofbeingemily.com
SUMMARY:Spook Show
DESCRIPTION:For the past few years\, horror and Halloween enthusiasts near and far have traveled to meet where all kindred spirits may lie. This gathering of haunting is known as the “Spook Show”\, an annual event conjured up by the Halloween Club. Spook Show started with a simple mission: facilitate an outdoor-gathering where small businesses and fellow enthusiasts convene to share their penchant for the macabre and support the local community on-site at Halloween Club in full costume. This get-together for the Halloween lifestyle community has grown into a spooktacular must-do annual event to fill the void kindred spirits feel at the start of the year.
URL:https://thehorrorofbeingemily.com/blog/event/spook-show/
LOCATION:Halloween Club Superstore\, 14447 Firestone Boulevard\, La Mirada\, CA\, 90638\, United States
CATEGORIES:Art / Craft Show,Flea Market,Southern California
ATTACH;FMTTYPE=image/jpeg:https://thehorrorofbeingemily.com/blog/wp-content/uploads/2022/03/HalloweenClub_SpookShow_2022.jpg
ORGANIZER;CN="Halloween Club":MAILTO:marketing@halloweenclub.com
END:VEVENT
END:VCALENDAR