BEGIN:VCALENDAR
VERSION:2.0
PRODID:-//The Horror of Being Emily - ECPv6.15.13//NONSGML v1.0//EN
CALSCALE:GREGORIAN
METHOD:PUBLISH
X-ORIGINAL-URL:https://thehorrorofbeingemily.com/blog
X-WR-CALDESC:Events for The Horror of Being Emily
REFRESH-INTERVAL;VALUE=DURATION:PT1H
X-Robots-Tag:noindex
X-PUBLISHED-TTL:PT1H
BEGIN:VTIMEZONE
TZID:America/Los_Angeles
BEGIN:DAYLIGHT
TZOFFSETFROM:-0800
TZOFFSETTO:-0700
TZNAME:PDT
DTSTART:20250309T100000
END:DAYLIGHT
BEGIN:STANDARD
TZOFFSETFROM:-0700
TZOFFSETTO:-0800
TZNAME:PST
DTSTART:20251102T090000
END:STANDARD
BEGIN:DAYLIGHT
TZOFFSETFROM:-0800
TZOFFSETTO:-0700
TZNAME:PDT
DTSTART:20260308T100000
END:DAYLIGHT
BEGIN:STANDARD
TZOFFSETFROM:-0700
TZOFFSETTO:-0800
TZNAME:PST
DTSTART:20261101T090000
END:STANDARD
BEGIN:DAYLIGHT
TZOFFSETFROM:-0800
TZOFFSETTO:-0700
TZNAME:PDT
DTSTART:20270314T100000
END:DAYLIGHT
BEGIN:STANDARD
TZOFFSETFROM:-0700
TZOFFSETTO:-0800
TZNAME:PST
DTSTART:20271107T090000
END:STANDARD
END:VTIMEZONE
BEGIN:VEVENT
DTSTART;VALUE=DATE:20260425
DTEND;VALUE=DATE:20260427
DTSTAMP:20260423T132202
CREATED:20240201T024904Z
LAST-MODIFIED:20260109T230309Z
UID:4068-1777075200-1777247999@thehorrorofbeingemily.com
SUMMARY:East Coast Haunters Convention
DESCRIPTION:The East Coast Haunters Convention is TransWorld’s newest Halloween trade show event. Much like its sister convention\, the Midwest Haunters Convention\, this show features a pre-con bus tour\, educational sessions\, expo floor\, party\, and more. East Coast Haunters Convention is open to the public and is dedicated to all things Halloween! Welcoming home/pro haunters\, actors\, enthusiasts\, and anyone who loves to celebrate Halloween!
URL:https://thehorrorofbeingemily.com/blog/event/east-coast-haunters-convention/
LOCATION:Greater Philadelphia Expo Center\, 100 Station Avenue\, Oaks\, PA\, 19456\, United States
CATEGORIES:Haunt Industry Event,Trade Show
ATTACH;FMTTYPE=image/png:https://thehorrorofbeingemily.com/blog/wp-content/uploads/2024/01/EastCoastHauntersConvention_2024.png
ORGANIZER;CN="TransWorld Trade Shows%2C LLC":MAILTO:webmaster@transworldtradeshows.com
END:VEVENT
BEGIN:VEVENT
DTSTART;VALUE=DATE:20260518
DTEND;VALUE=DATE:20260521
DTSTAMP:20260423T132202
CREATED:20220210T040327Z
LAST-MODIFIED:20260205T065654Z
UID:1641-1779062400-1779321599@thehorrorofbeingemily.com
SUMMARY:ScareCON
DESCRIPTION:Since 2007\, ScareCON has been dedicated to the growing UK & European haunted attractions industry. The event features educational sessions\, a trade show floor\, “ScareBall” social dance\, and ScareAwards.
URL:https://thehorrorofbeingemily.com/blog/event/scarecon/
LOCATION:The Heart of England Convention Centre\, Meriden Road\, Fillongley\, Coventry\, CV7 8DX\, United Kingdom
CATEGORIES:Convention,Haunt Industry Event,Trade Show
ATTACH;FMTTYPE=image/png:https://thehorrorofbeingemily.com/blog/wp-content/uploads/2021/03/scarecon-logo.png
ORGANIZER;CN="ScareCON":MAILTO:scarecon@btinternet.com
END:VEVENT
BEGIN:VEVENT
DTSTART;VALUE=DATE:20260605
DTEND;VALUE=DATE:20260608
DTSTAMP:20260423T132202
CREATED:20210210T211509Z
LAST-MODIFIED:20260111T000317Z
UID:1258-1780617600-1780876799@thehorrorofbeingemily.com
SUMMARY:Midwest Haunters Convention
DESCRIPTION:Midwest Haunters Convention is a haunt industry trade show that is open to the public. The event is known for its networking opportunities\, haunt tours\, and party. There is a tradeshow floor with a variety of vendors – many of which offer cash & carry options – and an education program led by industry leaders. While the event is smaller than the flagship Transworld event\, this is a fantastic opportunity to meet other haunters and strengthen your haunt skills.
URL:https://thehorrorofbeingemily.com/blog/event/midwest-haunters-convention/
LOCATION:Donald E. Stephens Convention Center\, 5555 N. River Road\, Rosemont\, IL\, 60018\, United States
CATEGORIES:Haunt Industry Event,Trade Show
ATTACH;FMTTYPE=image/png:https://thehorrorofbeingemily.com/blog/wp-content/uploads/2021/02/Midwest-Haunters-Convention_2021.png
ORGANIZER;CN="TransWorld Trade Shows%2C LLC":MAILTO:webmaster@transworldtradeshows.com
END:VEVENT
BEGIN:VEVENT
DTSTART;VALUE=DATE:20260718
DTEND;VALUE=DATE:20260720
DTSTAMP:20260423T132202
CREATED:20210210T231411Z
LAST-MODIFIED:20260110T080911Z
UID:1281-1784332800-1784505599@thehorrorofbeingemily.com
SUMMARY:Texas Haunters Convention
DESCRIPTION:Texas Haunters Conventions is a Halloween convention with over 90\,000 square feet of family-friendly vendors\, events\, demonstrations\, and classes for Halloween and cosplay enthusiasts.
URL:https://thehorrorofbeingemily.com/blog/event/texas-haunters-convention/
LOCATION:Irving Convention Center\, 500 W Las Colinas Boulevard\, Irving\, TX\, 75039\, United States
CATEGORIES:Convention,Haunt Industry Event,Trade Show
ATTACH;FMTTYPE=image/png:https://thehorrorofbeingemily.com/blog/wp-content/uploads/2021/02/TexasHauntersConvention-1.png
END:VEVENT
BEGIN:VEVENT
DTSTART;VALUE=DATE:20260801
DTEND;VALUE=DATE:20260803
DTSTAMP:20260423T132202
CREATED:20210310T233043Z
LAST-MODIFIED:20260110T081230Z
UID:1566-1785542400-1785715199@thehorrorofbeingemily.com
SUMMARY:Haunters Against Hate: The Event
DESCRIPTION:Haunters Against Hate is a non-profit corporation that gives LGBTQ haunters a voice to express themselves and the challenges they face in life and the haunt community. Premiering in 2021\, Haunters Against Hate: The Event is a weekend horror & Halloween event mixed with an LGBTQ festival. Participants will celebrate price\, horror\, and scaring in an accepting and welcoming environment. \nProfits will be donated to various LGBTQ youth organizations. \nThe event features vendor booths\, celebrity guests\, seminars\, and workshops. A Saturday night Awards Ceremony will present the HAH Legacy Award HAH Haunter of the Year Award\, and the Jesse McDonald HAH Memorial Award.
URL:https://thehorrorofbeingemily.com/blog/event/haunters-against-hate-the-event/
LOCATION:Radisson Kalamazoo\, 100 W. Michigan Ave.\, Kalamazoo\, MI\, 49007\, United States
CATEGORIES:Convention,Haunt Industry Event
ATTACH;FMTTYPE=image/jpeg:https://thehorrorofbeingemily.com/blog/wp-content/uploads/2021/03/HauntersAgainstHate_TheEvent.jpg
END:VEVENT
BEGIN:VEVENT
DTSTART;VALUE=DATE:20260801
DTEND;VALUE=DATE:20260803
DTSTAMP:20260423T132202
CREATED:20220304T031617Z
LAST-MODIFIED:20260110T080442Z
UID:3423-1785542400-1785715199@thehorrorofbeingemily.com
SUMMARY:Southeast Hollows Haunt Convention
DESCRIPTION:The Southeast Hollows Haunt Convention is a haunter’s convention for the haunt enthusiast\, home haunter\, professional haunter\, actors\, and makeup artists. The event features vendors\, educational and entertaining classes\, show floor demos\, contests\, and a great Halloween party. 
URL:https://thehorrorofbeingemily.com/blog/event/southeast-hollows-haunt-convention/
LOCATION:Georgia State Fairgrounds\, 401 Larry Walker Pkwy\, Perry\, 31069\, United States
CATEGORIES:Convention,Haunt Industry Event
ATTACH;FMTTYPE=image/png:https://thehorrorofbeingemily.com/blog/wp-content/uploads/2022/03/Screenshot-107.png
ORGANIZER;CN="Ron's Haunted Hollow LLC.":MAILTO:rons.haunted.hollow1@gmail.com
END:VEVENT
END:VCALENDAR