BEGIN:VCALENDAR
VERSION:2.0
PRODID:-//The Horror of Being Emily - ECPv6.15.13//NONSGML v1.0//EN
CALSCALE:GREGORIAN
METHOD:PUBLISH
X-ORIGINAL-URL:https://thehorrorofbeingemily.com/blog
X-WR-CALDESC:Events for The Horror of Being Emily
REFRESH-INTERVAL;VALUE=DURATION:PT1H
X-Robots-Tag:noindex
X-PUBLISHED-TTL:PT1H
BEGIN:VTIMEZONE
TZID:America/Los_Angeles
BEGIN:DAYLIGHT
TZOFFSETFROM:-0800
TZOFFSETTO:-0700
TZNAME:PDT
DTSTART:20160313T100000
END:DAYLIGHT
BEGIN:STANDARD
TZOFFSETFROM:-0700
TZOFFSETTO:-0800
TZNAME:PST
DTSTART:20161106T090000
END:STANDARD
BEGIN:DAYLIGHT
TZOFFSETFROM:-0800
TZOFFSETTO:-0700
TZNAME:PDT
DTSTART:20170312T100000
END:DAYLIGHT
BEGIN:STANDARD
TZOFFSETFROM:-0700
TZOFFSETTO:-0800
TZNAME:PST
DTSTART:20171105T090000
END:STANDARD
BEGIN:DAYLIGHT
TZOFFSETFROM:-0800
TZOFFSETTO:-0700
TZNAME:PDT
DTSTART:20180311T100000
END:DAYLIGHT
BEGIN:STANDARD
TZOFFSETFROM:-0700
TZOFFSETTO:-0800
TZNAME:PST
DTSTART:20181104T090000
END:STANDARD
BEGIN:DAYLIGHT
TZOFFSETFROM:-0800
TZOFFSETTO:-0700
TZNAME:PDT
DTSTART:20190310T100000
END:DAYLIGHT
BEGIN:STANDARD
TZOFFSETFROM:-0700
TZOFFSETTO:-0800
TZNAME:PST
DTSTART:20191103T090000
END:STANDARD
BEGIN:DAYLIGHT
TZOFFSETFROM:-0800
TZOFFSETTO:-0700
TZNAME:PDT
DTSTART:20200308T100000
END:DAYLIGHT
BEGIN:STANDARD
TZOFFSETFROM:-0700
TZOFFSETTO:-0800
TZNAME:PST
DTSTART:20201101T090000
END:STANDARD
BEGIN:DAYLIGHT
TZOFFSETFROM:-0800
TZOFFSETTO:-0700
TZNAME:PDT
DTSTART:20210314T100000
END:DAYLIGHT
BEGIN:STANDARD
TZOFFSETFROM:-0700
TZOFFSETTO:-0800
TZNAME:PST
DTSTART:20211107T090000
END:STANDARD
BEGIN:DAYLIGHT
TZOFFSETFROM:-0800
TZOFFSETTO:-0700
TZNAME:PDT
DTSTART:20220313T100000
END:DAYLIGHT
BEGIN:STANDARD
TZOFFSETFROM:-0700
TZOFFSETTO:-0800
TZNAME:PST
DTSTART:20221106T090000
END:STANDARD
BEGIN:DAYLIGHT
TZOFFSETFROM:-0800
TZOFFSETTO:-0700
TZNAME:PDT
DTSTART:20230312T100000
END:DAYLIGHT
BEGIN:STANDARD
TZOFFSETFROM:-0700
TZOFFSETTO:-0800
TZNAME:PST
DTSTART:20231105T090000
END:STANDARD
BEGIN:DAYLIGHT
TZOFFSETFROM:-0800
TZOFFSETTO:-0700
TZNAME:PDT
DTSTART:20240310T100000
END:DAYLIGHT
BEGIN:STANDARD
TZOFFSETFROM:-0700
TZOFFSETTO:-0800
TZNAME:PST
DTSTART:20241103T090000
END:STANDARD
END:VTIMEZONE
BEGIN:VEVENT
DTSTART;VALUE=DATE:20230923
DTEND;VALUE=DATE:20230925
DTSTAMP:20260423T132146
CREATED:20210210T214318Z
LAST-MODIFIED:20230319T041718Z
UID:1262-1695427200-1695599999@thehorrorofbeingemily.com
SUMMARY:Midwest Monster Fest
DESCRIPTION:Midwest Monster Fest celebrates all things horror. This 3 day event features celebrity guests and panel discussions\, a special effects makeup competition\, a cosplay contest\, vendors galore\, a film festival\, and an after party.
URL:https://thehorrorofbeingemily.com/blog/event/midwest-monster-fest/
LOCATION:The Rust Belt\, 533 12th Avenue\, East Moline\, IL\, 61244\, United States
CATEGORIES:Convention,Fan Event
ATTACH;FMTTYPE=image/png:https://thehorrorofbeingemily.com/blog/wp-content/uploads/2021/02/Midwest-Monster-Fest_2021.png
ORGANIZER;CN="Midwest Monster Fest":MAILTO:mwmonsterfest@gmail.com
END:VEVENT
BEGIN:VEVENT
DTSTART;VALUE=DATE:20230818
DTEND;VALUE=DATE:20230820
DTSTAMP:20260423T132146
CREATED:20210210T224110Z
LAST-MODIFIED:20230319T042452Z
UID:1273-1692316800-1692489599@thehorrorofbeingemily.com
SUMMARY:Monster Bash Bela Lugosi Film Fest
DESCRIPTION:Monster Bash Bela Lugosi Film Fest is a classic monster film fest & vendor floor produced by Creepy Classics Collectibles. The event features a horror movie marathon\, vendors\, and special giveaways.
URL:https://thehorrorofbeingemily.com/blog/event/monster-bash-bela-lugosi-film-fest/
LOCATION:The Palace Theater\, 605 Market Avenue North\, Canton\, OH\, 44702\, United States
CATEGORIES:Fan Event,Film Festival
ATTACH;FMTTYPE=image/jpeg:https://thehorrorofbeingemily.com/blog/wp-content/uploads/2021/02/MonsterBash_Banner.jpg
ORGANIZER;CN="Creepy Classics":MAILTO:creepyclassics@creepyclassics.com
END:VEVENT
BEGIN:VEVENT
DTSTART;VALUE=DATE:20230616
DTEND;VALUE=DATE:20230619
DTSTAMP:20260423T132146
CREATED:20210210T223329Z
LAST-MODIFIED:20230319T042304Z
UID:1267-1686873600-1687132799@thehorrorofbeingemily.com
SUMMARY:Monster Bash
DESCRIPTION:Monster Bash is a classic monster film fest & expo produced by Creepy Classics Collectibles. The event is a family show (kids 12 and under are free) and features vendor tables\, celebrity guests\, and movie screenings. Celebrate classic horror & sci-fi with friendly\, like-minded individuals.
URL:https://thehorrorofbeingemily.com/blog/event/monster-bash/
LOCATION:Marriott Pittsburgh North\, 100 Cranberry Woods Drive\, Cranberry Township\, PA\, 16066\, United States
CATEGORIES:Convention,Fan Event
ATTACH;FMTTYPE=image/jpeg:https://thehorrorofbeingemily.com/blog/wp-content/uploads/2021/02/MonsterBash_Banner.jpg
ORGANIZER;CN="Creepy Classics":MAILTO:creepyclassics@creepyclassics.com
END:VEVENT
BEGIN:VEVENT
DTSTART;VALUE=DATE:20230505
DTEND;VALUE=DATE:20230508
DTSTAMP:20260423T132146
CREATED:20220210T040159Z
LAST-MODIFIED:20230216T235925Z
UID:3292-1683244800-1683503999@thehorrorofbeingemily.com
SUMMARY:All Monsters Attack
DESCRIPTION:From the creators of the Days of the Dead conventions comes All Monsters Attack. The event celebrates our favorite movie monsters\, featuring vendors\, celebrities\, and more.
URL:https://thehorrorofbeingemily.com/blog/event/all-monsters-attack/
LOCATION:Crowne Plaza O’Hare\, 5440 North River Road\, Rosemont\, IL\, 60018\, United States
CATEGORIES:Convention,Fan Event
ATTACH;FMTTYPE=image/png:https://thehorrorofbeingemily.com/blog/wp-content/uploads/2022/02/AllMonstersAttack_2023.png
ORGANIZER;CN="Days of the Dead":MAILTO:info@daysofthedead.com
END:VEVENT
BEGIN:VEVENT
DTSTART;VALUE=DATE:20230318
DTEND;VALUE=DATE:20230319
DTSTAMP:20260423T132146
CREATED:20220217T212313Z
LAST-MODIFIED:20230318T234534Z
UID:3407-1679097600-1679183999@thehorrorofbeingemily.com
SUMMARY:Creatures-Con
DESCRIPTION:Creatures-Con\, is dedicated to the world of TV Horror Hosts\, Classic and Camp Sci-Fi and Horror Films and Monster Kid Culture! \nThis event was cancelled for 2023.
URL:https://thehorrorofbeingemily.com/blog/event/creatures-con/
LOCATION:Concord Plaza Hotel\, 45 John Glenn Drive\, Concord\, CA\, 94520\, United States
CATEGORIES:Convention,Fan Event
ATTACH;FMTTYPE=image/jpeg:https://thehorrorofbeingemily.com/blog/wp-content/uploads/2022/02/CreaturesCon_2022.jpg
ORGANIZER;CN="Creatures Con":MAILTO:creaturescon@gmail.com
END:VEVENT
BEGIN:VEVENT
DTSTART;VALUE=DATE:20220917
DTEND;VALUE=DATE:20220918
DTSTAMP:20260423T132146
CREATED:20220304T030210Z
LAST-MODIFIED:20220304T032358Z
UID:3418-1663372800-1663459199@thehorrorofbeingemily.com
SUMMARY:Spook Show
DESCRIPTION:For the past few years\, horror and Halloween enthusiasts near and far have traveled to meet where all kindred spirits may lie. This gathering of haunting is known as the “Spook Show”\, an annual event conjured up by the Halloween Club. Spook Show started with a simple mission: facilitate an outdoor-gathering where small businesses and fellow enthusiasts convene to share their penchant for the macabre and support the local community on-site at Halloween Club in full costume. This get-together for the Halloween lifestyle community has grown into a spooktacular must-do annual event to fill the void kindred spirits feel at the start of the year.
URL:https://thehorrorofbeingemily.com/blog/event/spook-show/
LOCATION:Halloween Club Superstore\, 14447 Firestone Boulevard\, La Mirada\, CA\, 90638\, United States
CATEGORIES:Art / Craft Show,Flea Market,Southern California
ATTACH;FMTTYPE=image/jpeg:https://thehorrorofbeingemily.com/blog/wp-content/uploads/2022/03/HalloweenClub_SpookShow_2022.jpg
ORGANIZER;CN="Halloween Club":MAILTO:marketing@halloweenclub.com
END:VEVENT
BEGIN:VEVENT
DTSTART;VALUE=DATE:20220611
DTEND;VALUE=DATE:20220613
DTSTAMP:20260423T132146
CREATED:20210204T223158Z
LAST-MODIFIED:20220304T033107Z
UID:1241-1654905600-1655078399@thehorrorofbeingemily.com
SUMMARY:HauntX
DESCRIPTION:HauntX is a Haunter’s and Halloween DIY Trade Expo for haunters and Halloween enthusiasts. The event features hands-on workshops\, presentations from industry experts\, and Halloween supply vendors. This is a wonderful networking opportunity for SoCal haunters & Halloween enthusiasts and highlights local Halloween groups.
URL:https://thehorrorofbeingemily.com/blog/event/hauntx/
LOCATION:Pomona Fairplex\, 1101 W. McKinley Ave\, Pomona\, CA\, 91768\, United States
CATEGORIES:Convention,Haunt Industry Event,Southern California
ATTACH;FMTTYPE=image/jpeg:https://thehorrorofbeingemily.com/blog/wp-content/uploads/2021/02/HauntX_2021.jpg
ORGANIZER;CN="HauntX":MAILTO:contact@hauntx.com
END:VEVENT
BEGIN:VEVENT
DTSTART;VALUE=DATE:20220513
DTEND;VALUE=DATE:20220515
DTSTAMP:20260423T132146
CREATED:20220217T204549Z
LAST-MODIFIED:20220304T033502Z
UID:3390-1652400000-1652572799@thehorrorofbeingemily.com
SUMMARY:Midwest Monster Fest: Halfway to Halloween Convention
DESCRIPTION:Midwest Monster Fest: Halfway to Halloween Convention celebrates all things horror. This 2-day event features celebrity guests and panel discussions\, and an exciting exhibit floor. 
URL:https://thehorrorofbeingemily.com/blog/event/midwest-monster-fest-halfway-to-halloween-convention/
LOCATION:Rock Island County Fairgrounds\, 4200 Archer Drive\, East Moline\, IL\, 61244\, United States
CATEGORIES:Convention,Fan Event
ATTACH;FMTTYPE=image/png:https://thehorrorofbeingemily.com/blog/wp-content/uploads/2021/02/Midwest-Monster-Fest_2021.png
ORGANIZER;CN="Midwest Monster Fest":MAILTO:mwmonsterfest@gmail.com
END:VEVENT
BEGIN:VEVENT
DTSTART;VALUE=DATE:20220513
DTEND;VALUE=DATE:20220516
DTSTAMP:20260423T132146
CREATED:20210120T032523Z
LAST-MODIFIED:20220304T033231Z
UID:1037-1652400000-1652659199@thehorrorofbeingemily.com
SUMMARY:West Coast Halloween Convention
DESCRIPTION:West Coast Halloween Convention is a 501(c)3 non-profit event that brings together haunters from Oregon and the surrounding states. Founder Ed Roberts started the convention in 2010\, held at the Oregon School for the Deaf. WCHC is the only convention that is 100% founded for charity\, offering mini-grants to all professionals who are working with autistic and deaf children. \nThe convention is known for its social mixer events\, classes\, industry vendors\, and special 13th floor hotel rooms with an exclusive bar.
URL:https://thehorrorofbeingemily.com/blog/event/west-coast-haunters-convention/
LOCATION:DoublTree by Hilton Portland\, 1000 NE Multnomah Street\, Portland\, OR\, 97232\, United States
CATEGORIES:Convention,Haunt Industry Event
ATTACH;FMTTYPE=image/png:https://thehorrorofbeingemily.com/blog/wp-content/uploads/2021/01/WCHC_2021.png
END:VEVENT
BEGIN:VEVENT
DTSTART;TZID=America/Los_Angeles:20210605T110000
DTEND;TZID=America/Los_Angeles:20210605T170000
DTSTAMP:20260423T132146
CREATED:20210301T210253Z
LAST-MODIFIED:20220304T034005Z
UID:1487-1622890800-1622912400@thehorrorofbeingemily.com
SUMMARY:Fandomopolis
DESCRIPTION:The WhedonCon team is hosting a virtual event benefitting the Los Angeles LGBT Center and the Al Wooten Jr. Youth Center. The event will feature panels\, cosplay\, and trivia.
URL:https://thehorrorofbeingemily.com/blog/event/fandomopolis/
LOCATION:Virtual Event
CATEGORIES:Convention,Fan Event,Southern California
ATTACH;FMTTYPE=image/png:https://thehorrorofbeingemily.com/blog/wp-content/uploads/2021/03/FCI-Presents-Fandomopolis-300x188-1.png
ORGANIZER;CN="Fandom Charities":MAILTO:info@whedoncon.com
END:VEVENT
BEGIN:VEVENT
DTSTART;VALUE=DATE:20210219
DTEND;VALUE=DATE:20210222
DTSTAMP:20260423T132146
CREATED:20210216T054818Z
LAST-MODIFIED:20220304T034208Z
UID:1392-1613692800-1613951999@thehorrorofbeingemily.com
SUMMARY:Virtual Horror Con
DESCRIPTION:Virtual Horror Con is horror-themed digital-centric tabletop RPG convention experience complete with panels\, workshops with industry professionals\, streaming gameplay demos\, virtual tabletop gaming sessions\, and an online vendor & artist alley. \nA portion of the proceeds from Virtual Horror Con 2021 will go directly to Black Girls CODE and Blind Cat Rescue & Sanctuary. Panel and actual play stream audiences will have the opportunity to donate directly to these charities while enjoying the show.
URL:https://thehorrorofbeingemily.com/blog/event/virtual-horror-con/
LOCATION:Virtual Horror Con
CATEGORIES:Convention,Fan Event
ATTACH;FMTTYPE=image/png:https://thehorrorofbeingemily.com/blog/wp-content/uploads/2021/02/Virtual-Horror-Con.png
ORGANIZER;CN="Gehenna Gaming":MAILTO:highcouncil@gehennagaming.com
END:VEVENT
BEGIN:VEVENT
DTSTART;TZID=America/Los_Angeles:20180825T110000
DTEND;TZID=America/Los_Angeles:20180826T180000
DTSTAMP:20260423T132146
CREATED:20180702T232220Z
LAST-MODIFIED:20220304T034223Z
UID:631-1535194800-1535306400@thehorrorofbeingemily.com
SUMMARY:ScareLA 2018
DESCRIPTION:ScareLA\, Los Angeles’ premiere Halloween convention\, returns August 25th and 26th at the Los Angeles Convention Center South Hall K to celebrate Halloween in Summer with over 15\,000 of the most passionate SoCal entertainment professionals\, cosplayers\, attraction designers and operators\, makers\, artists\, filmmakers\, enthusiasts\, and fans. \nHaving premiered in 2013\, ScareLA was the first Los Angeles convention dedicated to celebrating Halloween. Situated in the entertainment capital of the world\, it will combine the city’s top talent and unique cultural setting with a twist! Drawing fans\, event planners\, and haunt entertainment professionals\, the event will feature top attraction designers and operators\, manufacturers\, artists\, filmmakers and more. The weekend-long Halloween season teaser will celebrate California’s hottest scary faire with attraction unveils\, workshops and classes\, top industry panels\, haunt experiences\, screenings\, and activities. \nTickets start as low as $25. You can purchase your day or weekend pass at: https://purchase.growtix.com/e/scarela_2018 \n 
URL:https://thehorrorofbeingemily.com/blog/event/scarela-2018/
LOCATION:Los Angeles Convention Center\, 1201 S Figueroa Street\, Los Angeles\, 90015\, United States
CATEGORIES:Convention,Southern California
ATTACH;FMTTYPE=image/png:https://thehorrorofbeingemily.com/blog/wp-content/uploads/2015/02/scareforslider.png
END:VEVENT
BEGIN:VEVENT
DTSTART;TZID=America/Los_Angeles:20170917T110000
DTEND;TZID=America/Los_Angeles:20170917T180000
DTSTAMP:20260423T132146
CREATED:20170821T162245Z
LAST-MODIFIED:20220304T034244Z
UID:550-1505646000-1505671200@thehorrorofbeingemily.com
SUMMARY:Son of Monsterpalooza
DESCRIPTION:Usher in the fall and Halloween Season at Monsterpalooza’s offshoot fall event\, Son of Monsterpalooza\, this September 15-17 in Burbank featuring Over 150 Vendors\, Celebrity Guests\, Special Exhibits\, Presentations & Much More!
URL:https://thehorrorofbeingemily.com/blog/event/son-of-monsterpalooza-3/
LOCATION:The Mariott Burbank\, 2500 N Hollywood Way\, Burbank\, CA\, 91505\, United States
CATEGORIES:Convention,Southern California
ORGANIZER;CN="Monsterpalooza":MAILTO:therubberroom101@aol.com
END:VEVENT
BEGIN:VEVENT
DTSTART;TZID=America/Los_Angeles:20170916T110000
DTEND;TZID=America/Los_Angeles:20170916T180000
DTSTAMP:20260423T132146
CREATED:20170821T162204Z
LAST-MODIFIED:20220304T034249Z
UID:548-1505559600-1505584800@thehorrorofbeingemily.com
SUMMARY:Son of Monsterpalooza
DESCRIPTION:Usher in the fall and Halloween Season at Monsterpalooza’s offshoot fall event\, Son of Monsterpalooza\, this September 15-17 in Burbank featuring Over 150 Vendors\, Celebrity Guests\, Special Exhibits\, Presentations & Much More!
URL:https://thehorrorofbeingemily.com/blog/event/son-of-monsterpalooza-2/
LOCATION:The Mariott Burbank\, 2500 N Hollywood Way\, Burbank\, CA\, 91505\, United States
CATEGORIES:Convention,Southern California
ORGANIZER;CN="Monsterpalooza":MAILTO:therubberroom101@aol.com
END:VEVENT
BEGIN:VEVENT
DTSTART;TZID=America/Los_Angeles:20170806T110000
DTEND;TZID=America/Los_Angeles:20170806T180000
DTSTAMP:20260423T132146
CREATED:20170821T161021Z
LAST-MODIFIED:20220304T034254Z
UID:542-1502017200-1502042400@thehorrorofbeingemily.com
SUMMARY:ScareLA 2017
DESCRIPTION:ScareLA is Los Angeles’ premiere Halloween convention. Start the Halloween season off right with this teaser of all to come in October.
URL:https://thehorrorofbeingemily.com/blog/event/scarela-2017-2/
LOCATION:Los Angeles Convention Center\, 1201 S Figueroa Street\, Los Angeles\, 90015\, United States
CATEGORIES:Convention,Southern California
END:VEVENT
BEGIN:VEVENT
DTSTART;TZID=America/Los_Angeles:20170805T110000
DTEND;TZID=America/Los_Angeles:20170805T190000
DTSTAMP:20260423T132146
CREATED:20170821T160902Z
LAST-MODIFIED:20220304T034304Z
UID:538-1501930800-1501959600@thehorrorofbeingemily.com
SUMMARY:ScareLA 2017
DESCRIPTION:ScareLA is Los Angeles’ premiere Halloween convention. Start the Halloween season off right with this teaser of all to come in October.
URL:https://thehorrorofbeingemily.com/blog/event/scarela-2017/
LOCATION:Los Angeles Convention Center\, 1201 S Figueroa Street\, Los Angeles\, 90015\, United States
CATEGORIES:Convention,Southern California
END:VEVENT
END:VCALENDAR