BEGIN:VCALENDAR
VERSION:2.0
PRODID:-//The Horror of Being Emily - ECPv6.15.13//NONSGML v1.0//EN
CALSCALE:GREGORIAN
METHOD:PUBLISH
X-ORIGINAL-URL:https://thehorrorofbeingemily.com/blog
X-WR-CALDESC:Events for The Horror of Being Emily
REFRESH-INTERVAL;VALUE=DURATION:PT1H
X-Robots-Tag:noindex
X-PUBLISHED-TTL:PT1H
BEGIN:VTIMEZONE
TZID:America/Los_Angeles
BEGIN:DAYLIGHT
TZOFFSETFROM:-0800
TZOFFSETTO:-0700
TZNAME:PDT
DTSTART:20250309T100000
END:DAYLIGHT
BEGIN:STANDARD
TZOFFSETFROM:-0700
TZOFFSETTO:-0800
TZNAME:PST
DTSTART:20251102T090000
END:STANDARD
BEGIN:DAYLIGHT
TZOFFSETFROM:-0800
TZOFFSETTO:-0700
TZNAME:PDT
DTSTART:20260308T100000
END:DAYLIGHT
BEGIN:STANDARD
TZOFFSETFROM:-0700
TZOFFSETTO:-0800
TZNAME:PST
DTSTART:20261101T090000
END:STANDARD
BEGIN:DAYLIGHT
TZOFFSETFROM:-0800
TZOFFSETTO:-0700
TZNAME:PDT
DTSTART:20270314T100000
END:DAYLIGHT
BEGIN:STANDARD
TZOFFSETFROM:-0700
TZOFFSETTO:-0800
TZNAME:PST
DTSTART:20271107T090000
END:STANDARD
BEGIN:DAYLIGHT
TZOFFSETFROM:-0800
TZOFFSETTO:-0700
TZNAME:PDT
DTSTART:20280312T100000
END:DAYLIGHT
BEGIN:STANDARD
TZOFFSETFROM:-0700
TZOFFSETTO:-0800
TZNAME:PST
DTSTART:20281105T090000
END:STANDARD
END:VTIMEZONE
BEGIN:VEVENT
DTSTART;VALUE=DATE:20261120
DTEND;VALUE=DATE:20261123
DTSTAMP:20260423T150047
CREATED:20220217T200620Z
LAST-MODIFIED:20260111T002736Z
UID:3376-1795132800-1795391999@thehorrorofbeingemily.com
SUMMARY:Monster-Mania Con 69
DESCRIPTION:Meet horror’s hottest stars at Monster-Mania Con. This horror fan convention features a wide variety of celebrities\, exhibit floor\, presentations\, and more.
URL:https://thehorrorofbeingemily.com/blog/event/monster-mania-con-61/
LOCATION:Embassy Suites By Hilton Oaks PA\, 888 Chesterbrook Blvd\, Wayne\, PA\, 19087\, United States
CATEGORIES:Convention,Fan Event
ATTACH;FMTTYPE=image/png:https://thehorrorofbeingemily.com/blog/wp-content/uploads/2022/02/MonsterMania_2022.png
ORGANIZER;CN="Monster-Mania Con":MAILTO:dave@monstermania.net
END:VEVENT
BEGIN:VEVENT
DTSTART;VALUE=DATE:20261120
DTEND;VALUE=DATE:20261123
DTSTAMP:20260423T150047
CREATED:20240126T035250Z
LAST-MODIFIED:20260225T210443Z
UID:4043-1795132800-1795391999@thehorrorofbeingemily.com
SUMMARY:Days of the Dead Chicago
DESCRIPTION:Days of the Dead is the fan convention where horror comes to play! The event’s primary goal is to create a welcoming genre convention that brings together like-minded friends and fans for a full convention experience. The event is known for its impressive celebrity guest roster and high-quality horror collectible vendors.
URL:https://thehorrorofbeingemily.com/blog/event/days-of-the-dead-chicago-2/
LOCATION:Chicago Marriott O’Hare\, 8535 W Higgins Rd\, Chicago\, 60631\, United States
CATEGORIES:Convention,Fan Event
ATTACH;FMTTYPE=image/jpeg:https://thehorrorofbeingemily.com/blog/wp-content/uploads/2021/01/Days-of-the-Dead.jpg
ORGANIZER;CN="Days of the Dead":MAILTO:info@daysofthedead.com
END:VEVENT
BEGIN:VEVENT
DTSTART;VALUE=DATE:20261121
DTEND;VALUE=DATE:20261123
DTSTAMP:20260423T150047
CREATED:20210204T221926Z
LAST-MODIFIED:20260110T080022Z
UID:1235-1795219200-1795391999@thehorrorofbeingemily.com
SUMMARY:The Oddities & Curiosities Expo - Tampa
DESCRIPTION:The Oddities & Curiosities Expo is a travelling oddities event. Vendors showcase wet specimens\, taxidermy\, animal bones\, antiques\, weird jewelry\, unusual art\, and all-around bizarre items. Local artisans and entertainers can be found at each event – no two events are the same! \nTaxidermy classes are also offered at each event for an additional $200 fee.
URL:https://thehorrorofbeingemily.com/blog/event/the-oddities-curiosities-expo-tampa/
LOCATION:Florida State Fairgrounds Expo Center\, 4800 US Hwy. 301 North\, Tampa\, FL\, 33610\, United States
CATEGORIES:Art / Craft Show,Flea Market
ATTACH;FMTTYPE=image/jpeg:https://thehorrorofbeingemily.com/blog/wp-content/uploads/2021/02/OdditiesCuriositiesExpo_2021.jpg
ORGANIZER;CN="The Oddities & Curiosities Expo":MAILTO:odditiesandcuriositiesexpo@gmail.com
END:VEVENT
BEGIN:VEVENT
DTSTART;VALUE=DATE:20261212
DTEND;VALUE=DATE:20261213
DTSTAMP:20260423T150047
CREATED:20240206T023059Z
LAST-MODIFIED:20260111T001512Z
UID:4123-1797033600-1797119999@thehorrorofbeingemily.com
SUMMARY:The Oddities Flea Market - New York
DESCRIPTION:The Oddities Flea Market features artisans and vendors who specialize in medical history ephemera\, anatomical curiosities\, natural history items\, osteological specimens\, taxidermy\, home décor\, jewelry\, one of a kind art\, bizarre flair\, and more. The event does an amazing job highlighting its artists and vendors. Be sure to check out their Instagram (@OdditiesFleaMarket) for a glimpse of the event’s offerings!
URL:https://thehorrorofbeingemily.com/blog/event/the-oddities-flea-market-new-york/
LOCATION:Metropolitan Pavilion\, 125 West 18th Street\, New York\, NY\, 10011\, United States
CATEGORIES:Art / Craft Show,Flea Market
ATTACH;FMTTYPE=image/jpeg:https://thehorrorofbeingemily.com/blog/wp-content/uploads/2021/02/TheOdditiesFleaMarket_2021.jpg
ORGANIZER;CN="The Oddities Flea Market":MAILTO:odditiesflea@gmail.com
END:VEVENT
BEGIN:VEVENT
DTSTART;VALUE=DATE:20270327
DTEND;VALUE=DATE:20270330
DTSTAMP:20260423T150047
CREATED:20210120T010303Z
LAST-MODIFIED:20260110T082104Z
UID:1033-1806105600-1806364799@thehorrorofbeingemily.com
SUMMARY:Wondercon
DESCRIPTION:Wondercon is an annual comic book\, sci-fi\, and film convention held in Anaheim California. The event features pop culture panels\, cosplay events\, and a large show floor with both artists and retail vendors.
URL:https://thehorrorofbeingemily.com/blog/event/wondercon/
LOCATION:Anaheim Convention Center\, 800 W Katella Avenue\, Anaheim\, CA\, 92802\, United States
CATEGORIES:Convention,Fan Event,Southern California
ATTACH;FMTTYPE=image/jpeg:https://thehorrorofbeingemily.com/blog/wp-content/uploads/2021/01/Wondercon_2021.jpg
END:VEVENT
END:VCALENDAR