BEGIN:VCALENDAR
VERSION:2.0
PRODID:-//The Horror of Being Emily - ECPv6.15.13//NONSGML v1.0//EN
CALSCALE:GREGORIAN
METHOD:PUBLISH
X-ORIGINAL-URL:https://thehorrorofbeingemily.com/blog
X-WR-CALDESC:Events for The Horror of Being Emily
REFRESH-INTERVAL;VALUE=DURATION:PT1H
X-Robots-Tag:noindex
X-PUBLISHED-TTL:PT1H
BEGIN:VTIMEZONE
TZID:America/Los_Angeles
BEGIN:DAYLIGHT
TZOFFSETFROM:-0800
TZOFFSETTO:-0700
TZNAME:PDT
DTSTART:20240310T100000
END:DAYLIGHT
BEGIN:STANDARD
TZOFFSETFROM:-0700
TZOFFSETTO:-0800
TZNAME:PST
DTSTART:20241103T090000
END:STANDARD
BEGIN:DAYLIGHT
TZOFFSETFROM:-0800
TZOFFSETTO:-0700
TZNAME:PDT
DTSTART:20250309T100000
END:DAYLIGHT
BEGIN:STANDARD
TZOFFSETFROM:-0700
TZOFFSETTO:-0800
TZNAME:PST
DTSTART:20251102T090000
END:STANDARD
BEGIN:DAYLIGHT
TZOFFSETFROM:-0800
TZOFFSETTO:-0700
TZNAME:PDT
DTSTART:20260308T100000
END:DAYLIGHT
BEGIN:STANDARD
TZOFFSETFROM:-0700
TZOFFSETTO:-0800
TZNAME:PST
DTSTART:20261101T090000
END:STANDARD
END:VTIMEZONE
BEGIN:VEVENT
DTSTART;VALUE=DATE:20250711
DTEND;VALUE=DATE:20250714
DTSTAMP:20260424T000437
CREATED:20250320T222638Z
LAST-MODIFIED:20250320T222638Z
UID:4364-1752192000-1752451199@thehorrorofbeingemily.com
SUMMARY:Days of the Dead Phoenix
DESCRIPTION:Days of the Dead is the fan convention where horror comes to play! The event’s primary goal is to create a welcoming genre convention that brings together like-minded friends and fans for a full convention experience. The event is known for its impressive celebrity guest roster and high-quality horror collectible vendors.
URL:https://thehorrorofbeingemily.com/blog/event/days-of-the-dead-phoenix/
LOCATION:Sheraton Phoenix Downtown\, 340 N. 3rd Street\, Pheonix\, AZ\, 85004\, United States
CATEGORIES:Convention,Fan Event
ATTACH;FMTTYPE=image/jpeg:https://thehorrorofbeingemily.com/blog/wp-content/uploads/2021/01/Days-of-the-Dead.jpg
ORGANIZER;CN="Days of the Dead":MAILTO:info@daysofthedead.com
END:VEVENT
BEGIN:VEVENT
DTSTART;VALUE=DATE:20250725
DTEND;VALUE=DATE:20250728
DTSTAMP:20260424T000437
CREATED:20210216T045843Z
LAST-MODIFIED:20250312T033817Z
UID:1360-1753401600-1753660799@thehorrorofbeingemily.com
SUMMARY:Motor City Nightmares
DESCRIPTION:Motor City Nightmares bills itself as “Michigan’s Horror Convention”. It features genre celebrity guests\, vendors\, artists\, a costume contest\, “Miss Nightmare” contest\, and parties.
URL:https://thehorrorofbeingemily.com/blog/event/motor-city-nightmares/
LOCATION:Novi Sheraton\, 21111 Haggerty Rd\, Novi\, MI\, 48375\, United States
CATEGORIES:Convention,Fan Event
ATTACH;FMTTYPE=image/jpeg:https://thehorrorofbeingemily.com/blog/wp-content/uploads/2021/02/Motor-City-Nightmares.jpg
ORGANIZER;CN="Motor City Nightmares":MAILTO:motorcitynightmares@gmail.com
END:VEVENT
END:VCALENDAR