BEGIN:VCALENDAR
VERSION:2.0
PRODID:-//The Horror of Being Emily - ECPv6.15.13//NONSGML v1.0//EN
CALSCALE:GREGORIAN
METHOD:PUBLISH
X-WR-CALNAME:The Horror of Being Emily
X-ORIGINAL-URL:https://thehorrorofbeingemily.com/blog
X-WR-CALDESC:Events for The Horror of Being Emily
REFRESH-INTERVAL;VALUE=DURATION:PT1H
X-Robots-Tag:noindex
X-PUBLISHED-TTL:PT1H
BEGIN:VTIMEZONE
TZID:America/Los_Angeles
BEGIN:DAYLIGHT
TZOFFSETFROM:-0800
TZOFFSETTO:-0700
TZNAME:PDT
DTSTART:20250309T100000
END:DAYLIGHT
BEGIN:STANDARD
TZOFFSETFROM:-0700
TZOFFSETTO:-0800
TZNAME:PST
DTSTART:20251102T090000
END:STANDARD
BEGIN:DAYLIGHT
TZOFFSETFROM:-0800
TZOFFSETTO:-0700
TZNAME:PDT
DTSTART:20260308T100000
END:DAYLIGHT
BEGIN:STANDARD
TZOFFSETFROM:-0700
TZOFFSETTO:-0800
TZNAME:PST
DTSTART:20261101T090000
END:STANDARD
BEGIN:DAYLIGHT
TZOFFSETFROM:-0800
TZOFFSETTO:-0700
TZNAME:PDT
DTSTART:20270314T100000
END:DAYLIGHT
BEGIN:STANDARD
TZOFFSETFROM:-0700
TZOFFSETTO:-0800
TZNAME:PST
DTSTART:20271107T090000
END:STANDARD
END:VTIMEZONE
BEGIN:VEVENT
DTSTART;VALUE=DATE:20260227
DTEND;VALUE=DATE:20260302
DTSTAMP:20260423T112908
CREATED:20240207T013931Z
LAST-MODIFIED:20260110T080738Z
UID:4157-1772150400-1772409599@thehorrorofbeingemily.com
SUMMARY:Scaradise
DESCRIPTION:Central Florida’s Horror & Pop Culture Convention. Features a vendor floor\, celebrity signings\, and more.
URL:https://thehorrorofbeingemily.com/blog/event/spookala/
LOCATION:Florida State Fairgrounds Expo Center\, 4800 US Hwy. 301 North\, Tampa\, FL\, 33610\, United States
CATEGORIES:Fan Event
ATTACH;FMTTYPE=image/jpeg:https://thehorrorofbeingemily.com/blog/wp-content/uploads/2024/02/Scaradise_2026.jpg
ORGANIZER;CN="Scaradise":MAILTO:spookalafl@gmail.com
END:VEVENT
BEGIN:VEVENT
DTSTART;VALUE=DATE:20260306
DTEND;VALUE=DATE:20260309
DTSTAMP:20260423T112908
CREATED:20220217T202843Z
LAST-MODIFIED:20260111T002122Z
UID:3387-1772755200-1773014399@thehorrorofbeingemily.com
SUMMARY:Monster-Mania Con 66
DESCRIPTION:Meet horror’s hottest stars at Monster-Mania Con. This horror fan convention features a wide variety of celebrities\, exhibit floor\, presentations\, and more.
URL:https://thehorrorofbeingemily.com/blog/event/monster-mania-con-62/
LOCATION:DoubleTree by Hilton Cherry Hill Philadelphia\, 2349 Marlton Pike West\, Cherry Hill\, NJ\, 08002
CATEGORIES:Convention,Fan Event
ATTACH;FMTTYPE=image/png:https://thehorrorofbeingemily.com/blog/wp-content/uploads/2022/02/MonsterMania_2022.png
ORGANIZER;CN="Monster-Mania Con":MAILTO:dave@monstermania.net
END:VEVENT
BEGIN:VEVENT
DTSTART;VALUE=DATE:20260307
DTEND;VALUE=DATE:20260309
DTSTAMP:20260423T112908
CREATED:20220125T222446Z
LAST-MODIFIED:20260110T071346Z
UID:3237-1772841600-1773014399@thehorrorofbeingemily.com
SUMMARY:The Oddities & Curiosities Expo - Albuquerque
DESCRIPTION:The Oddities & Curiosities Expo is a travelling oddities event. Vendors showcase wet specimens\, taxidermy\, animal bones\, antiques\, weird jewelry\, unusual art\, and all-around bizarre items. Local artisans and entertainers can be found at each event – no two events are the same! \nTaxidermy classes are also offered at each event for an additional $200 fee.
URL:https://thehorrorofbeingemily.com/blog/event/the-oddities-curiosities-expo-albuquerque/
LOCATION:Expo New Mexico\, 300 San Pedro Dr NE\, Albuquerque\, NM\, 87108\, United States
CATEGORIES:Art / Craft Show,Flea Market
ATTACH;FMTTYPE=image/jpeg:https://thehorrorofbeingemily.com/blog/wp-content/uploads/2021/02/OdditiesCuriositiesExpo_2021.jpg
ORGANIZER;CN="The Oddities & Curiosities Expo":MAILTO:odditiesandcuriositiesexpo@gmail.com
END:VEVENT
BEGIN:VEVENT
DTSTART;VALUE=DATE:20260320
DTEND;VALUE=DATE:20260323
DTSTAMP:20260423T112908
CREATED:20250321T011130Z
LAST-MODIFIED:20260108T205141Z
UID:4367-1773964800-1774223999@thehorrorofbeingemily.com
SUMMARY:HorrorHound Weekend
DESCRIPTION:HorrorHound Magazine presents a series of mid-west horror conventions where fans can meet some of the biggest icons in horror history while shopping among a selection of 100+ vendors. Each show has movie screenings & premieres\, as well as celebrity Q&A panels\, concerts\, tattoo vendors\, and more. \nHorrorHound is an award-winning bi-monthly horror magazine that also hosts horror conventions and an international film festival.
URL:https://thehorrorofbeingemily.com/blog/event/horrorhound-weekend-2/
LOCATION:Sharonville Convention Center\, 11355 Chester Road\, Cincinnati\, OH\, 45246\, United States
CATEGORIES:Convention,Fan Event
ATTACH;FMTTYPE=image/jpeg:https://thehorrorofbeingemily.com/blog/wp-content/uploads/2021/02/HorrorHound_2021.jpg
ORGANIZER;CN="HorrorHound":MAILTO:support@horrorhound.com
END:VEVENT
BEGIN:VEVENT
DTSTART;VALUE=DATE:20260321
DTEND;VALUE=DATE:20260323
DTSTAMP:20260423T112908
CREATED:20220125T220712Z
LAST-MODIFIED:20260110T074316Z
UID:3232-1774051200-1774223999@thehorrorofbeingemily.com
SUMMARY:The Oddities & Curiosities Expo - Pheonix
DESCRIPTION:The Oddities & Curiosities Expo is a travelling oddities event. Vendors showcase wet specimens\, taxidermy\, animal bones\, antiques\, weird jewelry\, unusual art\, and all-around bizarre items. Local artisans and entertainers can be found at each event – no two events are the same! \nTaxidermy classes are also offered at each event for an additional fee.
URL:https://thehorrorofbeingemily.com/blog/event/the-oddities-curiosities-expo-pheonix/
LOCATION:Pheonix Convention Center\, 100 North Third Street\, Pheonix\, AZ\, 85004\, United States
CATEGORIES:Art / Craft Show,Flea Market
ATTACH;FMTTYPE=image/jpeg:https://thehorrorofbeingemily.com/blog/wp-content/uploads/2021/02/OdditiesCuriositiesExpo_2021.jpg
ORGANIZER;CN="The Oddities & Curiosities Expo":MAILTO:odditiesandcuriositiesexpo@gmail.com
END:VEVENT
BEGIN:VEVENT
DTSTART;VALUE=DATE:20260326
DTEND;VALUE=DATE:20260330
DTSTAMP:20260423T112908
CREATED:20210203T011452Z
LAST-MODIFIED:20250314T145634Z
UID:1159-1774483200-1774828799@thehorrorofbeingemily.com
SUMMARY:Transworld's Halloween & Attractions Show
DESCRIPTION:Transworld’s Halloween & Attractions show is known for its large selection of Halloween industry exhibitors. This annual trade show features a show floor\, class programming\, costume party\, and haunt tours. The event is not open to the general public – attendees must register and submit credentials in order to attend.
URL:https://thehorrorofbeingemily.com/blog/event/transworlds-halloween-attractions-show/
LOCATION:America’s Center\, 701 Convention Plaza Street\, St. Louis\, MO\, 63101\, United States
CATEGORIES:Convention,Haunt Industry Event,Trade Show
ATTACH;FMTTYPE=image/png:https://thehorrorofbeingemily.com/blog/wp-content/uploads/2021/02/TransworldHalloween_2021.png
ORGANIZER;CN="TransWorld Trade Shows%2C LLC":MAILTO:webmaster@transworldtradeshows.com
END:VEVENT
END:VCALENDAR