BEGIN:VCALENDAR
VERSION:2.0
PRODID:-//The Horror of Being Emily - ECPv6.15.13//NONSGML v1.0//EN
CALSCALE:GREGORIAN
METHOD:PUBLISH
X-WR-CALNAME:The Horror of Being Emily
X-ORIGINAL-URL:https://thehorrorofbeingemily.com/blog
X-WR-CALDESC:Events for The Horror of Being Emily
REFRESH-INTERVAL;VALUE=DURATION:PT1H
X-Robots-Tag:noindex
X-PUBLISHED-TTL:PT1H
BEGIN:VTIMEZONE
TZID:America/Los_Angeles
BEGIN:DAYLIGHT
TZOFFSETFROM:-0800
TZOFFSETTO:-0700
TZNAME:PDT
DTSTART:20250309T100000
END:DAYLIGHT
BEGIN:STANDARD
TZOFFSETFROM:-0700
TZOFFSETTO:-0800
TZNAME:PST
DTSTART:20251102T090000
END:STANDARD
BEGIN:DAYLIGHT
TZOFFSETFROM:-0800
TZOFFSETTO:-0700
TZNAME:PDT
DTSTART:20260308T100000
END:DAYLIGHT
BEGIN:STANDARD
TZOFFSETFROM:-0700
TZOFFSETTO:-0800
TZNAME:PST
DTSTART:20261101T090000
END:STANDARD
BEGIN:DAYLIGHT
TZOFFSETFROM:-0800
TZOFFSETTO:-0700
TZNAME:PDT
DTSTART:20270314T100000
END:DAYLIGHT
BEGIN:STANDARD
TZOFFSETFROM:-0700
TZOFFSETTO:-0800
TZNAME:PST
DTSTART:20271107T090000
END:STANDARD
END:VTIMEZONE
BEGIN:VEVENT
DTSTART;VALUE=DATE:20260710
DTEND;VALUE=DATE:20260713
DTSTAMP:20260423T202231
CREATED:20230217T055833Z
LAST-MODIFIED:20260205T070131Z
UID:3716-1783641600-1783900799@thehorrorofbeingemily.com
SUMMARY:Creep I.E. Con: Aftermath
DESCRIPTION:CreepIE Con celebrates all things pop culture and horror. Spend a weekend filled with celebrities\, pop culture exhibitors\, and experiences.
URL:https://thehorrorofbeingemily.com/blog/event/creep-i-e-con-aftermath/
LOCATION:Ontario Convention Center\, 2000 East Convention Center Way\, Ontario\, CA\, 91764\, United States
CATEGORIES:Convention,Fan Event
ATTACH;FMTTYPE=image/png:https://thehorrorofbeingemily.com/blog/wp-content/uploads/2022/02/CreepIE-Con-Logo_2022.png
ORGANIZER;CN="CreepIE Con":MAILTO:info@creepiecon.com
END:VEVENT
BEGIN:VEVENT
DTSTART;VALUE=DATE:20260718
DTEND;VALUE=DATE:20260720
DTSTAMP:20260423T202231
CREATED:20250320T200128Z
LAST-MODIFIED:20260110T233415Z
UID:4358-1784332800-1784505599@thehorrorofbeingemily.com
SUMMARY:Hauntmare Expo
DESCRIPTION:Hauntmare Expo is designed to bring Halloween & horror directly to the fans. They promise celebrity guests\, mini haunts\, experiences\, and a vendor floor with Halloween props\, animatronics\, masks\, costumes\, toys\, and collectibles.
URL:https://thehorrorofbeingemily.com/blog/event/hauntmare-expo/
LOCATION:Fresno Fairgrounds\, 1121 S Chance Ave\, Fresno\, CA\, 93702\, United States
CATEGORIES:Fan Event,Southern California
ATTACH;FMTTYPE=image/avif:https://thehorrorofbeingemily.com/blog/wp-content/uploads/2025/03/HauntmareExpo_2025.avif
ORGANIZER;CN="Hauntmare Expo":MAILTO:hauntmareexpo@gmail.com
END:VEVENT
BEGIN:VEVENT
DTSTART;VALUE=DATE:20260718
DTEND;VALUE=DATE:20260720
DTSTAMP:20260423T202231
CREATED:20210203T042622Z
LAST-MODIFIED:20260110T075830Z
UID:1172-1784332800-1784505599@thehorrorofbeingemily.com
SUMMARY:The Oddities & Curiosities Expo - San Jose
DESCRIPTION:The Oddities & Curiosities Expo is a travelling oddities event. Vendors showcase wet specimens\, taxidermy\, animal bones\, antiques\, weird jewelry\, unusual art\, and all-around bizarre items. Local artisans and entertainers can be found at each event – no two events are the same! \nTaxidermy classes are also offered at each event for an additional $200 fee.
URL:https://thehorrorofbeingemily.com/blog/event/the-oddities-curiosities-expo-san-jose/
LOCATION:San Jose McEnery Convention Center\, 150 W San Carlos St.\, San Jose\, CA\, 95113\, United States
CATEGORIES:Art / Craft Show
ATTACH;FMTTYPE=image/jpeg:https://thehorrorofbeingemily.com/blog/wp-content/uploads/2021/02/OdditiesCuriositiesExpo_2021.jpg
ORGANIZER;CN="The Oddities & Curiosities Expo":MAILTO:odditiesandcuriositiesexpo@gmail.com
END:VEVENT
BEGIN:VEVENT
DTSTART;VALUE=DATE:20260723
DTEND;VALUE=DATE:20260727
DTSTAMP:20260423T202231
CREATED:20210126T225606Z
LAST-MODIFIED:20260109T225329Z
UID:1070-1784764800-1785110399@thehorrorofbeingemily.com
SUMMARY:Comic Con San Diego
DESCRIPTION:Comic Con San Diego is the largest comics convention in the world. It takes place annually in San Diego\, California and features the best in pop culture\, film\, and comics. With official and unofficial pop-ups spanning the entire city\, there are limitless things to do. There is no way to see it all\, so you’d better plan out your days carefully!
URL:https://thehorrorofbeingemily.com/blog/event/comic-con-san-diego/
LOCATION:San Diego Convention Center\, 111 W Harbor Drive\, San Diego\, CA\, 92101\, United States
CATEGORIES:Convention,Fan Event,Southern California
ATTACH;FMTTYPE=image/png:https://thehorrorofbeingemily.com/blog/wp-content/uploads/2021/01/ComicCon_SanDiego_2021.png
END:VEVENT
END:VCALENDAR