BEGIN:VCALENDAR
VERSION:2.0
PRODID:-//The Horror of Being Emily - ECPv6.15.13//NONSGML v1.0//EN
CALSCALE:GREGORIAN
METHOD:PUBLISH
X-WR-CALNAME:The Horror of Being Emily
X-ORIGINAL-URL:https://thehorrorofbeingemily.com/blog
X-WR-CALDESC:Events for The Horror of Being Emily
REFRESH-INTERVAL;VALUE=DURATION:PT1H
X-Robots-Tag:noindex
X-PUBLISHED-TTL:PT1H
BEGIN:VTIMEZONE
TZID:America/Los_Angeles
BEGIN:DAYLIGHT
TZOFFSETFROM:-0800
TZOFFSETTO:-0700
TZNAME:PDT
DTSTART:20240310T100000
END:DAYLIGHT
BEGIN:STANDARD
TZOFFSETFROM:-0700
TZOFFSETTO:-0800
TZNAME:PST
DTSTART:20241103T090000
END:STANDARD
BEGIN:DAYLIGHT
TZOFFSETFROM:-0800
TZOFFSETTO:-0700
TZNAME:PDT
DTSTART:20250309T100000
END:DAYLIGHT
BEGIN:STANDARD
TZOFFSETFROM:-0700
TZOFFSETTO:-0800
TZNAME:PST
DTSTART:20251102T090000
END:STANDARD
BEGIN:DAYLIGHT
TZOFFSETFROM:-0800
TZOFFSETTO:-0700
TZNAME:PDT
DTSTART:20260308T100000
END:DAYLIGHT
BEGIN:STANDARD
TZOFFSETFROM:-0700
TZOFFSETTO:-0800
TZNAME:PST
DTSTART:20261101T090000
END:STANDARD
END:VTIMEZONE
BEGIN:VEVENT
DTSTART;VALUE=DATE:20250113
DTEND;VALUE=DATE:20250116
DTSTAMP:20260424T142224
CREATED:20210130T040734Z
LAST-MODIFIED:20240201T160038Z
UID:1126-1736726400-1736985599@thehorrorofbeingemily.com
SUMMARY:Halloween & Party Expo
DESCRIPTION:The Halloween & Party Expo connects a global audience of serious buyers and manufacturers of Halloween\, Costume\, and Party products. This trade show is best for Halloween retail store owners and staff who are looking to order the hottest new items for the upcoming Halloween season.
URL:https://thehorrorofbeingemily.com/blog/event/halloween-party-expo/
LOCATION:The Expo at World Market\, 435 S Grand Central Pkwy.\, Las Vegas\, NV\, 89106\, United States
CATEGORIES:Convention,Haunt Industry Event,Trade Show
ATTACH;FMTTYPE=image/png:https://thehorrorofbeingemily.com/blog/wp-content/uploads/2021/01/HalloweenAndPartyExpo_2021.png
ORGANIZER;CN="Halloween & Party Expo":MAILTO:info@halloweenpartyexpo.com
END:VEVENT
END:VCALENDAR