BEGIN:VCALENDAR
VERSION:2.0
PRODID:-//The Horror of Being Emily - ECPv6.15.13//NONSGML v1.0//EN
CALSCALE:GREGORIAN
METHOD:PUBLISH
X-WR-CALNAME:The Horror of Being Emily
X-ORIGINAL-URL:https://thehorrorofbeingemily.com/blog
X-WR-CALDESC:Events for The Horror of Being Emily
REFRESH-INTERVAL;VALUE=DURATION:PT1H
X-Robots-Tag:noindex
X-PUBLISHED-TTL:PT1H
BEGIN:VTIMEZONE
TZID:America/Los_Angeles
BEGIN:DAYLIGHT
TZOFFSETFROM:-0800
TZOFFSETTO:-0700
TZNAME:PDT
DTSTART:20250309T100000
END:DAYLIGHT
BEGIN:STANDARD
TZOFFSETFROM:-0700
TZOFFSETTO:-0800
TZNAME:PST
DTSTART:20251102T090000
END:STANDARD
BEGIN:DAYLIGHT
TZOFFSETFROM:-0800
TZOFFSETTO:-0700
TZNAME:PDT
DTSTART:20260308T100000
END:DAYLIGHT
BEGIN:STANDARD
TZOFFSETFROM:-0700
TZOFFSETTO:-0800
TZNAME:PST
DTSTART:20261101T090000
END:STANDARD
BEGIN:DAYLIGHT
TZOFFSETFROM:-0800
TZOFFSETTO:-0700
TZNAME:PDT
DTSTART:20270314T100000
END:DAYLIGHT
BEGIN:STANDARD
TZOFFSETFROM:-0700
TZOFFSETTO:-0800
TZNAME:PST
DTSTART:20271107T090000
END:STANDARD
END:VTIMEZONE
BEGIN:VEVENT
DTSTART;VALUE=DATE:20260912
DTEND;VALUE=DATE:20260913
DTSTAMP:20260424T004011
CREATED:20240207T013447Z
LAST-MODIFIED:20260110T234025Z
UID:4154-1789171200-1789257599@thehorrorofbeingemily.com
SUMMARY:Darkness Con - Snake River
DESCRIPTION:A celebration of Haunted Houses\, Halloween\, Horror\, and Pop Culture. Spooky Vendors\, Artists\, Krampus\, Panels\, Make & Takes\, Children’s Activities\, Underground Wonderland Party\, Graveyard Bash\, Horror Vixens\, Live Performances & MORE!
URL:https://thehorrorofbeingemily.com/blog/event/darkness-con-snake-river/
LOCATION:Mountainview Events Center\, 1567 Way to Grace Ave\, Pocatello\, ID\, 83201\, United States
CATEGORIES:Fan Event
ATTACH;FMTTYPE=image/png:https://thehorrorofbeingemily.com/blog/wp-content/uploads/2024/02/Snake-River-logo-no-bg.png
ORGANIZER;CN="HHC Events":MAILTO:Email mail@cohorrorcon.com
END:VEVENT
END:VCALENDAR