BEGIN:VCALENDAR
VERSION:2.0
PRODID:-//The Horror of Being Emily - ECPv6.15.13//NONSGML v1.0//EN
CALSCALE:GREGORIAN
METHOD:PUBLISH
X-ORIGINAL-URL:https://thehorrorofbeingemily.com/blog
X-WR-CALDESC:Events for The Horror of Being Emily
REFRESH-INTERVAL;VALUE=DURATION:PT1H
X-Robots-Tag:noindex
X-PUBLISHED-TTL:PT1H
BEGIN:VTIMEZONE
TZID:America/Los_Angeles
BEGIN:DAYLIGHT
TZOFFSETFROM:-0800
TZOFFSETTO:-0700
TZNAME:PDT
DTSTART:20250309T100000
END:DAYLIGHT
BEGIN:STANDARD
TZOFFSETFROM:-0700
TZOFFSETTO:-0800
TZNAME:PST
DTSTART:20251102T090000
END:STANDARD
BEGIN:DAYLIGHT
TZOFFSETFROM:-0800
TZOFFSETTO:-0700
TZNAME:PDT
DTSTART:20260308T100000
END:DAYLIGHT
BEGIN:STANDARD
TZOFFSETFROM:-0700
TZOFFSETTO:-0800
TZNAME:PST
DTSTART:20261101T090000
END:STANDARD
BEGIN:DAYLIGHT
TZOFFSETFROM:-0800
TZOFFSETTO:-0700
TZNAME:PDT
DTSTART:20270314T100000
END:DAYLIGHT
BEGIN:STANDARD
TZOFFSETFROM:-0700
TZOFFSETTO:-0800
TZNAME:PST
DTSTART:20271107T090000
END:STANDARD
END:VTIMEZONE
BEGIN:VEVENT
DTSTART;VALUE=DATE:20260605
DTEND;VALUE=DATE:20260608
DTSTAMP:20260423T163824
CREATED:20210210T211509Z
LAST-MODIFIED:20260111T000317Z
UID:1258-1780617600-1780876799@thehorrorofbeingemily.com
SUMMARY:Midwest Haunters Convention
DESCRIPTION:Midwest Haunters Convention is a haunt industry trade show that is open to the public. The event is known for its networking opportunities\, haunt tours\, and party. There is a tradeshow floor with a variety of vendors – many of which offer cash & carry options – and an education program led by industry leaders. While the event is smaller than the flagship Transworld event\, this is a fantastic opportunity to meet other haunters and strengthen your haunt skills.
URL:https://thehorrorofbeingemily.com/blog/event/midwest-haunters-convention/
LOCATION:Donald E. Stephens Convention Center\, 5555 N. River Road\, Rosemont\, IL\, 60018\, United States
CATEGORIES:Haunt Industry Event,Trade Show
ATTACH;FMTTYPE=image/png:https://thehorrorofbeingemily.com/blog/wp-content/uploads/2021/02/Midwest-Haunters-Convention_2021.png
ORGANIZER;CN="TransWorld Trade Shows%2C LLC":MAILTO:webmaster@transworldtradeshows.com
END:VEVENT
BEGIN:VEVENT
DTSTART;VALUE=DATE:20260606
DTEND;VALUE=DATE:20260608
DTSTAMP:20260423T163824
CREATED:20210204T195617Z
LAST-MODIFIED:20260110T072644Z
UID:1217-1780704000-1780876799@thehorrorofbeingemily.com
SUMMARY:The Oddities & Curiosities Expo - Chicago
DESCRIPTION:The Oddities & Curiosities Expo is a travelling oddities event. Vendors showcase wet specimens\, taxidermy\, animal bones\, antiques\, weird jewelry\, unusual art\, and all-around bizarre items. Local artisans and entertainers can be found at each event – no two events are the same! \nTaxidermy classes are also offered at each event for an additional $200 fee.
URL:https://thehorrorofbeingemily.com/blog/event/the-oddities-curiosities-expo-chicago/
LOCATION:MCormick Place\, 2301 S King Dr.\, Chicago\, IL\, 60616\, United States
CATEGORIES:Art / Craft Show,Flea Market
ATTACH;FMTTYPE=image/jpeg:https://thehorrorofbeingemily.com/blog/wp-content/uploads/2021/02/OdditiesCuriositiesExpo_2021.jpg
ORGANIZER;CN="The Oddities & Curiosities Expo":MAILTO:odditiesandcuriositiesexpo@gmail.com
END:VEVENT
BEGIN:VEVENT
DTSTART;VALUE=DATE:20260625
DTEND;VALUE=DATE:20260629
DTSTAMP:20260423T163824
CREATED:20210202T221238Z
LAST-MODIFIED:20260110T234709Z
UID:1144-1782345600-1782691199@thehorrorofbeingemily.com
SUMMARY:Haunted America Conference
DESCRIPTION:The Haunted America Conference was the first established ghost conference in the United States. This event features new and returning speakers on ghosts\, hauntings\, the paranormal\, and the unexplained — plus how-to workshops\, ghost hunts\, special events\, haunted tours\, and much more
URL:https://thehorrorofbeingemily.com/blog/event/haunted-america-conference/
LOCATION:Lewis and Clark College\, 5800 Godfrey Road\, Godfrey\, IL\, 62035\, United States
CATEGORIES:Convention,Fan Event
ATTACH;FMTTYPE=image/jpeg:https://thehorrorofbeingemily.com/blog/wp-content/uploads/2021/02/HauntedAmericaConference_2021.jpg
ORGANIZER;CN="American Hauntings":MAILTO:Ghosts@AmericanHauntings.net
END:VEVENT
END:VCALENDAR