BEGIN:VCALENDAR
VERSION:2.0
PRODID:-//The Horror of Being Emily - ECPv6.15.13//NONSGML v1.0//EN
CALSCALE:GREGORIAN
METHOD:PUBLISH
X-ORIGINAL-URL:https://thehorrorofbeingemily.com/blog
X-WR-CALDESC:Events for The Horror of Being Emily
REFRESH-INTERVAL;VALUE=DURATION:PT1H
X-Robots-Tag:noindex
X-PUBLISHED-TTL:PT1H
BEGIN:VTIMEZONE
TZID:America/Los_Angeles
BEGIN:DAYLIGHT
TZOFFSETFROM:-0800
TZOFFSETTO:-0700
TZNAME:PDT
DTSTART:20250309T100000
END:DAYLIGHT
BEGIN:STANDARD
TZOFFSETFROM:-0700
TZOFFSETTO:-0800
TZNAME:PST
DTSTART:20251102T090000
END:STANDARD
BEGIN:DAYLIGHT
TZOFFSETFROM:-0800
TZOFFSETTO:-0700
TZNAME:PDT
DTSTART:20260308T100000
END:DAYLIGHT
BEGIN:STANDARD
TZOFFSETFROM:-0700
TZOFFSETTO:-0800
TZNAME:PST
DTSTART:20261101T090000
END:STANDARD
BEGIN:DAYLIGHT
TZOFFSETFROM:-0800
TZOFFSETTO:-0700
TZNAME:PDT
DTSTART:20270314T100000
END:DAYLIGHT
BEGIN:STANDARD
TZOFFSETFROM:-0700
TZOFFSETTO:-0800
TZNAME:PST
DTSTART:20271107T090000
END:STANDARD
END:VTIMEZONE
BEGIN:VEVENT
DTSTART;VALUE=DATE:20261023
DTEND;VALUE=DATE:20261026
DTSTAMP:20260424T021303
CREATED:20210216T053621Z
LAST-MODIFIED:20260110T080303Z
UID:1382-1792713600-1792972799@thehorrorofbeingemily.com
SUMMARY:Scarefest
DESCRIPTION:ScareFest has quickly become the largest event of its kind in the country. It is held annually in a nearly 90\,000 sq.ft state-of-the-art convention center in Lexington\, KY. The show draws fans from all over the country for three days of horror. paranormal & other fandom filled entertainment. Fans can shop from 150+ unique and unusual vendors; meet and get autographs from their favorite stars of horror movies as well as many other genres\, attend workshops\, seminars\, Q&A panels to learn more about the fields they love; watch the newest in independent horror and paranormal documentaries; party the night away EARLY at the Thursday Launch Party\, Friday’s VIP party\, Saturday’s Costume Ball\, or bring the whole family for a Rockin’ Kids Day on Sunday! This weekend is all about making memories that will last forever!
URL:https://thehorrorofbeingemily.com/blog/event/scarefest/
LOCATION:Central Bank Center – Lexington\, Kentucky\, 430 W. Vine Street\, Lexington\, KY\, 40507\, United States
CATEGORIES:Convention,Fan Event
ATTACH;FMTTYPE=image/jpeg:https://thehorrorofbeingemily.com/blog/wp-content/uploads/2021/02/Scarefest.jpg
ORGANIZER;CN="Scarefest":MAILTO:Info@thescarefest.com
END:VEVENT
END:VCALENDAR