BEGIN:VCALENDAR
VERSION:2.0
PRODID:-//The Horror of Being Emily - ECPv6.15.13//NONSGML v1.0//EN
CALSCALE:GREGORIAN
METHOD:PUBLISH
X-ORIGINAL-URL:https://thehorrorofbeingemily.com/blog
X-WR-CALDESC:Events for The Horror of Being Emily
REFRESH-INTERVAL;VALUE=DURATION:PT1H
X-Robots-Tag:noindex
X-PUBLISHED-TTL:PT1H
BEGIN:VTIMEZONE
TZID:America/Los_Angeles
BEGIN:DAYLIGHT
TZOFFSETFROM:-0800
TZOFFSETTO:-0700
TZNAME:PDT
DTSTART:20250309T100000
END:DAYLIGHT
BEGIN:STANDARD
TZOFFSETFROM:-0700
TZOFFSETTO:-0800
TZNAME:PST
DTSTART:20251102T090000
END:STANDARD
BEGIN:DAYLIGHT
TZOFFSETFROM:-0800
TZOFFSETTO:-0700
TZNAME:PDT
DTSTART:20260308T100000
END:DAYLIGHT
BEGIN:STANDARD
TZOFFSETFROM:-0700
TZOFFSETTO:-0800
TZNAME:PST
DTSTART:20261101T090000
END:STANDARD
BEGIN:DAYLIGHT
TZOFFSETFROM:-0800
TZOFFSETTO:-0700
TZNAME:PDT
DTSTART:20270314T100000
END:DAYLIGHT
BEGIN:STANDARD
TZOFFSETFROM:-0700
TZOFFSETTO:-0800
TZNAME:PST
DTSTART:20271107T090000
END:STANDARD
END:VTIMEZONE
BEGIN:VEVENT
DTSTART;VALUE=DATE:20260509
DTEND;VALUE=DATE:20260510
DTSTAMP:20260423T165131
CREATED:20260112T015355Z
LAST-MODIFIED:20260112T015355Z
UID:4467-1778284800-1778371199@thehorrorofbeingemily.com
SUMMARY:Halfway To Halloween Expo
DESCRIPTION:Dive into the ultimate celebration of all things dark\, creepy\, and macabre at Halfway To Halloween. Whether you’re a industry supplier\, a seasoned haunt operator\, a Home Haunter\, or an enthusiast\, Halfway To Halloween promises a wickedly good time.
URL:https://thehorrorofbeingemily.com/blog/event/halfway-to-halloween-expo/
LOCATION:Washtenaw Farm Council Grounds\, 5055 Ann Arbor Saline Rd\, Ann Arbor\, MI\, 48103\, United States
CATEGORIES:Art / Craft Show,Flea Market
ATTACH;FMTTYPE=image/jpeg:https://thehorrorofbeingemily.com/blog/wp-content/uploads/2026/01/HalfwaytoHalloween_2026.jpg
ORGANIZER;CN="Halfway To Halloween Expo":MAILTO:spencerevents7@gmail.com
END:VEVENT
END:VCALENDAR