BEGIN:VCALENDAR
VERSION:2.0
PRODID:-//The Horror of Being Emily - ECPv6.15.13//NONSGML v1.0//EN
CALSCALE:GREGORIAN
METHOD:PUBLISH
X-ORIGINAL-URL:https://thehorrorofbeingemily.com/blog
X-WR-CALDESC:Events for The Horror of Being Emily
REFRESH-INTERVAL;VALUE=DURATION:PT1H
X-Robots-Tag:noindex
X-PUBLISHED-TTL:PT1H
BEGIN:VTIMEZONE
TZID:America/Los_Angeles
BEGIN:DAYLIGHT
TZOFFSETFROM:-0800
TZOFFSETTO:-0700
TZNAME:PDT
DTSTART:20240310T100000
END:DAYLIGHT
BEGIN:STANDARD
TZOFFSETFROM:-0700
TZOFFSETTO:-0800
TZNAME:PST
DTSTART:20241103T090000
END:STANDARD
BEGIN:DAYLIGHT
TZOFFSETFROM:-0800
TZOFFSETTO:-0700
TZNAME:PDT
DTSTART:20250309T100000
END:DAYLIGHT
BEGIN:STANDARD
TZOFFSETFROM:-0700
TZOFFSETTO:-0800
TZNAME:PST
DTSTART:20251102T090000
END:STANDARD
BEGIN:DAYLIGHT
TZOFFSETFROM:-0800
TZOFFSETTO:-0700
TZNAME:PDT
DTSTART:20260308T100000
END:DAYLIGHT
BEGIN:STANDARD
TZOFFSETFROM:-0700
TZOFFSETTO:-0800
TZNAME:PST
DTSTART:20261101T090000
END:STANDARD
END:VTIMEZONE
BEGIN:VEVENT
DTSTART;VALUE=DATE:20251003
DTEND;VALUE=DATE:20251005
DTSTAMP:20260424T004922
CREATED:20220210T043128Z
LAST-MODIFIED:20250219T230226Z
UID:3364-1759449600-1759622399@thehorrorofbeingemily.com
SUMMARY:Cine Gear Expo Atlanta
DESCRIPTION:While not a horror event exactly\, horror filmmakers can greatly benefit from attending this annual cinema trade show. With over exhibits\, free seminars\, and additional classes & networking opportunities\, it is the perfect place to browse new equipment\, learn new skills\, and meet potential collaborators for your next horror project. \nThis Atlanta show is a regional event\, more intimate than the flagship Los Angeles event each June. 
URL:https://thehorrorofbeingemily.com/blog/event/cine-gear-expo-atlanta/
LOCATION:Trilith Studios\, 461 Sandy Creek Road\, Atlanta\, GA\, 30214\, United States
CATEGORIES:Convention,Trade Show
ATTACH;FMTTYPE=image/jpeg:https://thehorrorofbeingemily.com/blog/wp-content/uploads/2021/01/CGE408x213Logo.jpg
ORGANIZER;CN="Cine Gear":MAILTO:info@cinegearexpo.com
END:VEVENT
END:VCALENDAR